Workbook
Name _: #REF!
Name _.: #REF!
Name __: #REF!
Name ___: #REF!
Name ____: #REF!
Name _____: #REF!
Name ______: #REF!
Name _______: #REF!
Name __________: #REF!
Name _____________0: #REF!
Name _____________11: #REF!
Name _____________12: #REF!
Name __________0: #REF!
Name __________11: #REF!
Name __________12: #REF!
Name _________0: #REF!
Name _________10: #REF!
Name _________11: #REF!
Name _________12: #REF!
Name ________0: #REF!
Name ________10: #REF!
Name ________11: #REF!
Name ________12: #REF!
Name _______0: #REF!
Name ______0: #REF!
Name ______11: #REF!
Name ______12: #REF!
Name _____0: #REF!
Name _____10: #REF!
Name _____11: #REF!
Name _____12: #REF!
Name _____A20000: [1]갑지!#REF!
Name _____AA1: #REF!
Name _____MOK1: #REF!
Name _____MOK2: #REF!
Name _____MOK3: #REF!
Name _____MOK4: #REF!
Name ____0: #REF!
Name ____1: #REF!
Name ____10: #REF!
Name ____11: #REF!
Name ____12: #REF!
Name ____2: #REF!
Name ____3: #REF!
Name ____4: #REF!
Name ____5: #REF!
Name ____7: #REF!
Name ____8: #REF!
Name ____9: #REF!
Name ____A20000: [1]갑지!#REF!
Name ____AA1: #REF!
Name ____DOG1: #REF!
Name ____DOG2: #REF!
Name ____DOG3: #REF!
Name ____DOG4: #REF!
Name ____MOK1: #REF!
Name ____MOK2: #REF!
Name ____MOK3: #REF!
Name ____MOK4: #REF!
Name ____PI48: #REF!

Sheet 공사원가계산서
A1: 공 사 원 가 계 산 서
A2: 공사명 : 부산전주 송신소 이전 및 대구국악방송 제작시설 설치
A3: 비 목 | C3: 구 분 | D3: 금 액 | E3: 적용율(%) | F3: 비 고
A5: 순 공 사 비 | B5: 재 료 비 | C5: 직접재료비 | D5: ='1 세부내역서'!G349 -> 0
C6: 간접재료비
C7: 작업부산물(▲)
C8: 소 계 | D8: =SUM(D5:D7) -> 0 | E8: =D8/D27 -> #DIV/0!
B9: 노 무 비 | C9: 직접노무비 | D9: ='1 세부내역서'!I349 -> 0 | F9: 적용률 40%
C10: 간접노무비 | D10: =D9*E10 -> 0 | E10: 0.01 | F10: 직접노무비의 1.0%
C11: 소 계 | D11: =SUM(D9:D10) -> 0 | E11: =D11/D27 -> #DIV/0!
B12: 경 비 | C12: 운 반 비
C13: 산재보험료 | D13: =D11*E13 -> 0 | E13: 0.037 | F13: 노무비의 3.7%
C14: 고용보험료 | D14: =D11*E14 -> 0 | E14: 0.0079 | F14: 노무비의 0.79%
C15: 건강보험료 | D15: =D9*E15 -> 0 | E15: 0.017 | F15: 직접노무비의 1.7%
C16: 연금보험료 | D16: =D9*E16 -> 0 | E16: 0.0249 | F16: 직접노무비의 2.49%
C17: 외주가공비
C18: 안전관리비
C19: 폐기물처리비
C20: 기타 경비 | D20: =(D5+D11)*E20 -> 0 | E20: 0.005 | F20: 재료비+노무비의 0.5 %
C21: 소 계 | D21: =SUM(D12:D20) -> 0 | E21: =D21/D27 -> #DIV/0!
A22: 순 공 사 원 가 | D22: =D21+D11+D8 -> 0
A23: 일 반 관 리 비 | D23: =D22*E23 -> 0 | E23: 0.01 | F23: (재료비+노무비+경비)의 1.0%
A24: 이 윤 | D24: =(D11+D21+D23)*E24 -> 0 | E24: 0.027 | F24: (노무비+경비+ 일반관리비)-외주가공비의2.7%
A25: 합 계 | D25: =SUM(D22:D24) -> 0 | E25: =D25/D27 -> #DIV/0!
A26: 부가가치세(VAT 10%) | D26: =D25*10% -> 0 | E26: =D26/D27 -> #DIV/0!
A27: 합 계 | D27: =SUM(D25:D26) -> 0 | E27: =D27/D27 -> #DIV/0!

Sheet 총괄내역서
A1: 총 괄 내 역 서
A3: 번호 NO. | B3: 품 명 DESCRIPTION | C3: 규 격 SPEC | D3: 단 위 UNIT | E3: 수 량 Q'TY | F3: 자 재 비 | H3: 노 무 비 | J3: 경 비 | L3: 합 계 | N3: 비 고 REMARK
F4: 단 가 UNIT PRICE | G4: 금 액 TOTAL PRICE | H4: 단 가 UNIT PRICE | I4: 금 액 TOTAL PRICE | J4: 단 가 UNIT PRICE | K4: 금 액 TOTAL PRICE | L4: 단 가 UNIT PRICE | M4: 금 액 TOTAL PRICE
A5: 부산/전주 송신소 이설 및 대구국악방송 제작시설 설치
A7: A | B7: 부산/전주 송신소 이설
A8: A-1 | B8: 부산/전주 이설 전 전계강도 조사 (방송권역 전 지역) | D8: 식 | E8: 1 | I8: ='1 세부내역서'!I7 -> 0
A9: A-2 | B9: 전주국악방송 송신소 이설 | D9: 식 | E9: 1 | G9: ='1 세부내역서'!G55 -> 0 | I9: ='1 세부내역서'!I55 -> 0
A10: A-3 | B10: 부산국악방송 송신소 이설 | D10: 식 | E10: 1 | G10: ='1 세부내역서'!G106 -> 0 | I10: ='1 세부내역서'!I106 -> 0
A11: A-4 | B11: 안테나 특성측정 및 원격제어설치(부산 및 전주) | D11: 식 | E11: 1 | G11: ='1 세부내역서'!G109 -> 0
A12: A-5 | B12: 무선국 검사수수료 (부산 및 전주) | D12: 식 | E12: 1 | G12: ='1 세부내역서'!G111 -> 0
A13: 소 계 | G13: =SUM(G8:G12) -> 0 | I13: =SUM(I8:I12) -> 0
A14: B | B14: 대구국악방송 제작시설 설치
A15: B-1 | B15: 기계실 장비 | D15: 식 | E15: 1 | G15: ='1 세부내역서'!G129 -> 0 | I15: ='1 세부내역서'!I129 -> 0
A16: B-2 | B16: 방송제작장비 | D16: 식 | E16: 1 | G16: ='1 세부내역서'!G141 -> 0 | I16: ='1 세부내역서'!I141 -> 0
A17: B-3 | B17: 방송제작보조장비 | D17: 식 | E17: 1 | G17: ='1 세부내역서'!G168 -> 0 | I17: ='1 세부내역서'!I168 -> 0
A18: B-4 | B18: 공사자재비 및 인건비 | D18: 식 | E18: 1 | G18: ='1 세부내역서'!G195 -> 0 | I18: ='1 세부내역서'!I195 -> 0
A19: B-5 | B19: 건축음향 | D19: 식 | E19: 1
B20: -가설공사 | D20: 식 | E20: 1 | G20: ='1 세부내역서'!G209 -> 0 | I20: ='1 세부내역서'!I209 -> 0
B21: -철거공사 | D21: 식 | E21: 1 | G21: ='1 세부내역서'!G217 -> 0 | I21: ='1 세부내역서'!I217 -> 0
B22: -실별내장공사 | D22: 식 | E22: 1 | G22: ='1 세부내역서'!G264 -> 0 | I22: ='1 세부내역서'!I264 -> 0
B23: -전기설비공사 | D23: 식 | E23: 1 | G23: ='1 세부내역서'!G300 -> 0 | I23: ='1 세부내역서'!I300 -> 0
B24: -공조설비공사 | D24: 식 | E24: 1 | G24: ='1 세부내역서'!G327 -> 0 | I24: ='1 세부내역서'!I327 -> 0
B25: -소방설비공사 | D25: 식 | E25: 1 | G25: ='1 세부내역서'!G347 -> 0 | I25: ='1 세부내역서'!I347 -> 0
A26: 소 계 | G26: =SUM(G15:G25) -> 0 | I26: =SUM(I15:I25) -> 0
A27: 총 계 | G27: =G13+G26 -> 0 | I27: =I26+I13 -> 0

Sheet 1 세부내역서
A1: 번호 NO. | B1: 품 명 DESCRIPTION | C1: 규 격 SPEC | D1: 단 위 UNIT | E1: 수 량 Q'TY | F1: 자 재 비 | H1: 노 무 비 | J1: 제조사 MAKER | K1: 비 고 REMARK
F2: 단 가 UNIT PRICE | G2: 금 액 TOTAL PRICE | H2: 단 가 UNIT PRICE | I2: 금 액 TOTAL PRICE
A3: A | B3: 부산/전주송신소 이전
A4: A-1 | B4: 부산/전주 이설 전 전계강도 조사 (방송권역 전 지역) | C4: 발주처 지정장소 | D4: 식 | E4: 1
B5: - 이설 전 36개포인트 측정 (3일) | C5: 일비,식비,식비,교통비 | D5: 일 | E5: 3
B6: - 기존 부산국악방송 방송구역 이동간 측정(7일) | C6: 일비,식비,식비,교통비 | D6: 일 | E6: 7
B7: 합 계
A8: A-2 | B8: 전주국악방송 송신소 이설
A9: 1 | B9: 송신기 설치(3.5KW) | C9: Nautel NV 3.5
A10: 1-1 | B10: Automatic RF Transmiter Control Unit | D10: 대 | E10: 2 | K10: 방송-1
A11: 1-2 | B11: AC Line Protector(Surge Protector) | D11: set | E11: 2
A12: 1-3 | B12: 송신기 12Port Auto Changeoner Rack System | D12: 식 | E12: 1 | K12: 방송-2
A13: 1-4 | B13: 5KW Dummy Load | D13: 식 | E13: 1 | K13: 방송-3
A14: 1-5 | B14: Directional Coupler | D14: set | E14: 1
A15: 1-6 | B15: Wattmeter | D15: 식 | E15: 1
A16: 1-7 | B16: Rigid Feeder | C16: 10ft / 3.3m | D16: ea | E16: 1 | J16: Shively | K16: 방송-4
A17: 1-8 | B17: 송신기내 설치 자재
B18: 분전반(800*800*200) | C18: 100A, 50A, 30A | D18: 식 | E18: 1
B19: 전원선 | C19: CV 16㎟ * 4C | D19: M | E19: 40 | K19: 방송-5
B20: 전원선 | C20: CV 10㎟ * 4C | D20: M | E20: 24 | K20: 방송-6
B21: 전원선 | C21: CV 10㎟ * 3C | D21: M | E21: 20 | K21: 방송-7
B22: 전원선 | C22: CV 6㎟ * 3C | D22: M | E22: 36 | K22: 방송-8
B23: 접지선 | C23: GV 25㎟ | D23: M | E23: 40 | K23: 방송-9
B24: 휴렉시블전선관(스틸) | C24: Φ42㎜ | D24: M | E24: 40
B25: 오디오 및 통신케이블 및 콘넥타 | D25: 식 | E25: 1
A26: 1-9 | B26: 케이블트레이 증설
B27: 트레이 | C27: 300*100 | D27: M | E27: 12 | K27: 방송-10
B28: T, L형 | C28: 300*100 | D28: 개 | E28: 2 | K28: 방송-10
B29: 기타자재 | C29: 전산볼트,C찬넬 | D29: 식 | E29: 1
A30: 2 | B30: FM Panal Antenna | C30: CP2 Dipole 1면2단 | J30: Crossbow
B31: FM 안테나 | D31: set | E31: 2 | K31: 방송-11
B32: FM 안테나 가대 | C32: 잡자재 포함 | D32: set | E32: 1
B33: 급전선(1-5/8" Foam케이블)설치 | D33: M | E33: 120 | K33: 방송-12
B34: 급전선(1-5/8" Foam케이블)철거 | D34: M | E34: 90 | K34: 방송-13
B35: Connector | D35: ea | E35: 4
B36: Hoisting grip for 1 5/8" | C36: L7SGIP | D36: 개 | E36: 2
B37: Hanger of 10 1 5/8" | C37: 42396A-2 | D37: 식 | E37: 7
B38: Angle Adapter Kit of 10 | C38: 31768A-M | D38: 식 | E38: 7
A39: 3 | B39: TX Site Remote System | C39: Burk Arcplus | D39: 식 | E39: 1 | K39: Rack장착이동
A40: 4 | B40: Digital Audio Codec | C40: APT WorldnetRio | D40: ea | E40: 2 | K40: Rack장착이동
...

Sheet 2 방송일위대가표_40%적용
A1: 부산,전주 송신소 이전 및 대국국악방송 제작시설 설치 [일위대가표] | AD1: (2013하반기 노임단가기준 / 적용률 : 40%적용)
A2: 순 | B2: 구 분 | C2: 수량 | D2: 통신관련기사 | F2: 통신산업기사 | H2: 통신설비공 | J2: 통신내선공 | L2: 통신외선공 | N2: 통신기능사 | P2: 통신케이블공 | R2: 송전공 | T2: 무선안테나공 | V2: 특별인부 | X2: 보통인부 | Z2: S/W시험사 | AB2: H/W시험사 | AD2: 비고
D3: 174039 | F3: 163285 | H3: 149755 | J3: 138172 | L3: 184490 | N3: 143507 | P3: 223084 | R3: 342661 | T3: 176534 | V3: 100936 | X3: 83975 | Z3: 215253 | AB3: 194224
D4: 공량(인) | F4: 공량(인) | H4: 공량(인) | J4: 공량(인) | L4: 공량(인) | N4: 공량(인) | P4: 공량(인) | R4: 공량(인) | T4: 공량(인) | V4: 공량(인) | X4: 공량(인) | Z4: 공량(인) | AB4: 공량(인)
A5: A | B5: 송신소 장비
A6: 1 | B6: 송신기(3.5KW) | C6: 1 | D6: =SUM(D12:Y12)*C6*40% -> 3036621.4
B7: 기초작업 | F7: 2 | H7: 7 | X7: 6 | AD7: 통품5-3-6
B8: 조립 및 설치 | D8: 3.5 | F8: 7 | H8: 15 | X8: 4
B9: 조정 | D9: 5.5 | F9: 9.5 | H9: 5
B10: 시험. 측정 및 교정 | AD10: 품제외
B11: 소계 | D11: =SUM(D8:D10) -> 9 | F11: =SUM(F8:F10) -> 16.5 | H11: =SUM(H8:H10) -> 20 | X11: =SUM(X8:X10) -> 4
B12: 금액 | D12: =D11*D3 -> 1566351 | F12: =F11*F3 -> 2694202.5 | H12: =H11*H3 -> 2995100 | X12: =X11*X3 -> 335900
A13: 2 | B13: U Link, Coaxial SW. | C13: 1 | D13: =SUM(D17:Y17)*C13*40%*150% -> 695592 | AD13: 통품5-3-9
B14: 조립 및 설치 | F14: 2 | H14: 5 | X14: 1 | AD14: 이설-150%적용
B15: 시험 및 측정 | AD15: 품제외
B16: 소계 | F16: =SUM(F14:G15) -> 2 | H16: =SUM(H14:I15) -> 5 | X16: =SUM(X14:Y15) -> 1
B17: 금액 | F17: =F16*F3 -> 326570 | H17: =H16*H3 -> 748775 | X17: =X16*X3 -> 83975
A18: 3 | B18: 5Kw Dummy Load | C18: 1 | D18: =(F21+H21+X21+D21)*40%*150% -> 292247.4 | AD18: 통품5-2-11
B19: 설치 | D19: 1 | F19: 1 | H19: 1 | AD19: 이설-150%적용
B20: 소계 | D20: =SUM(D19) -> 1 | F20: =SUM(F19:G19) -> 1 | H20: =SUM(H19:I19) -> 1
B21: 금액 | D21: =D20*D3 -> 174039 | F21: =F20*F3 -> 163285 | H21: =H20*H3 -> 149755 | J21: =J20*J3 -> 0 | L21: =L20*L3 -> 0 | N21: =N20*N3 -> 0 | P21: =P20*P3 -> 0 | R21: =R20*R3 -> 0 | T21: =T20*T3 -> 0 | V21: =V20*V3 -> 0 | X21: =X20*X3 -> 0
A22: 4 | B22: Rigid Feeder | C22: 1 | D22: =(F25+H25+X25+D25)*40%/10 -> 25665.515 | AD22: 통품5-2-19-다
B23: 인양설치 | D23: 2.08 | L23: 4.17 | T23: 3.33 | X23: 3.33
B24: 소계 | D24: =SUM(D23) -> 2.08 | L24: =SUM(L23) -> 4.17 | T24: =SUM(T23) -> 3.33 | X24: =SUM(X23) -> 3.33 | AD24: 1M기준
B25: 금액 | D25: =D24*D3 -> 362001.12 | F25: =F24*F3 -> 0 | H25: =H24*H3 -> 0 | J25: =J24*J3 -> 0 | L25: =L24*L3 -> 769323.3 | N25: =N24*N3 -> 0 | P25: =P24*P3 -> 0 | R25: =R24*R3 -> 0 | T25: =T24*T3 -> 587858.22 | V25: =V24*V3 -> 0 | X25: =X24*X3 -> 279636.75
A26: 5 | B26: 전원선(CV 16㎟ * 4C) | C26: 1 | D26: =SUM(D29:Y29)*C26*40%/10*260% -> 4640.1472 | AD26: 통품6-18
B27: 설치 | P27: 0.2 | AD27: 4C-260%적용
B28: 소계 | P28: =SUM(P27) -> 0.2 | AD28: 1M기준
B29: 금액 | D29: =D28*D7 -> 0 | F29: =F28*F7 -> 0 | H29: =H28*H7 -> 0 | J29: =J28*J7 -> 0 | L29: =L28*L7 -> 0 | N29: =N28*N7 -> 0 | P29: =P28*P3 -> 44616.8 | R29: =R28*R7 -> 0 | T29: =T28*T7 -> 0 | V29: =V28*V7 -> 0 | X29: =X28*X7 -> 0
A30: 6 | B30: 전원선(CV 10㎟ * 4C) | C30: 1 | D30: =SUM(D33:Y33)*C30*40%/10 -> 4372.4464 | AD30: 통품3-1-26
B31: 설치 | P31: 0.49
B32: 소계 | P32: =SUM(P31) -> 0.49 | AD32: 1M기준
B33: 금액 | D33: =D32*D3 -> 0 | F33: =F32*F3 -> 0 | H33: =H32*H3 -> 0 | J33: =J32*J3 -> 0 | L33: =L32*L3 -> 0 | N33: =N32*N3 -> 0 | P33: =P32*P3 -> 109311.16 | R33: =R32*R3 -> 0 | T33: =T32*T3 -> 0 | V33: =V32*V3 -> 0 | X33: =X32*X3 -> 0
A34: 7 | B34: 전원선(CV 10㎟ * 3C) | C34: 1 | D34: =SUM(D37:Y37)*C34*40%/10 -> 3212.4096 | AD34: 통품3-1-26
B35: 설치 | P35: 0.36
B36: 소계 | P36: =SUM(P35) -> 0.36 | AD36: 1M기준
B37: 금액 | D37: =D36*D3 -> 0 | F37: =F36*F3 -> 0 | H37: =H36*H3 -> 0 | J37: =J36*J3 -> 0 | L37: =L36*L3 -> 0 | N37: =N36*N3 -> 0 | P37: =P36*P3 -> 80310.24 | R37: =R36*R3 -> 0 | T37: =T36*T3 -> 0 | V37: =V36*V3 -> 0 | X37: =X36*X3 -> 0
A38: 8 | B38: 전원선(CV 6㎟ * 3C) | C38: 1 | D38: =SUM(D41:Y41)*C38*40%/10 -> 2320.0736 | AD38: 통품3-1-26
B39: 설치 | P39: 0.26
B40: 소계 | P40: =SUM(P39) -> 0.26 | AD40: 1M기준
...

Sheet 3.건축_산출근거목록표
A1: No | B1: 품 명 DESCRIPTION | C1: 규 격 SPECIFICATION | D1: 단위UNIT | E1: 수량 Q'TY | F1: 자재비 MATERIALS COSTS | H1: 인건비 LABOR COSTS | J1: 합계 TOTAL COSTS | L1: 비고 NOTE
F2: 단가 UNIT PRICE | G2: 금액 AMOUNT | H2: 단가 UNIT PRICE | I2: 금액 AMOUNT | J2: 단가 UNIT PRICE | K2: 금액 AMOUNT
A4: TE-1 | B4: =VLOOKUP($A4,'4.건축_산출근거표'!$A$4:$L$711,2,FALSE) -> 현장정리 | C4: =VLOOKUP($A4,'4.건축_산출근거표'!$A$4:$L$711,3,FALSE) -> 콘크리트 외 | D4: =VLOOKUP($A4,'4.건축_산출근거표'!$A$4:$L$711,4,FALSE) -> M2 | E4: =VLOOKUP($A4,'4.건축_산출근거표'!$A$4:$L$711,5,FALSE) -> 1 | G4: =VLOOKUP($A4,'4.건축_산출근거표'!$A$4:$L$711,7,FALSE) -> 0 | I4: =VLOOKUP($A4,'4.건축_산출근거표'!$A$4:$L$711,9,FALSE) -> 12582.943 | K4: =VLOOKUP($A4,'4.건축_산출근거표'!$A$4:$L$711,11,FALSE) -> 12582.943
A5: TE-2 | B5: =VLOOKUP($A5,'4.건축_산출근거표'!$A$4:$L$711,2,FALSE) -> 현장보양 | C5: =VLOOKUP($A5,'4.건축_산출근거표'!$A$4:$L$711,3,FALSE) -> 바닥 보양 | D5: =VLOOKUP($A5,'4.건축_산출근거표'!$A$4:$L$711,4,FALSE) -> M2 | E5: =VLOOKUP($A5,'4.건축_산출근거표'!$A$4:$L$711,5,FALSE) -> 1 | G5: =VLOOKUP($A5,'4.건축_산출근거표'!$A$4:$L$711,7,FALSE) -> 0 | I5: =VLOOKUP($A5,'4.건축_산출근거표'!$A$4:$L$711,9,FALSE) -> 3521.4258 | K5: =VLOOKUP($A5,'4.건축_산출근거표'!$A$4:$L$711,11,FALSE) -> 3521.4258
A6: TE-3 | B6: =VLOOKUP($A6,'4.건축_산출근거표'!$A$4:$L$711,2,FALSE) -> 이동식 비계 설치 | C6: =VLOOKUP($A6,'4.건축_산출근거표'!$A$4:$L$711,3,FALSE) -> 0 | D6: =VLOOKUP($A6,'4.건축_산출근거표'!$A$4:$L$711,4,FALSE) -> 대 | E6: =VLOOKUP($A6,'4.건축_산출근거표'!$A$4:$L$711,5,FALSE) -> 1 | G6: =VLOOKUP($A6,'4.건축_산출근거표'!$A$4:$L$711,7,FALSE) -> 282870 | I6: =VLOOKUP($A6,'4.건축_산출근거표'!$A$4:$L$711,9,FALSE) -> 4402.5877 | K6: =VLOOKUP($A6,'4.건축_산출근거표'!$A$4:$L$711,11,FALSE) -> 287272.59
A7: DE-1 | B7: =VLOOKUP($A7,'4.건축_산출근거표'!$A$4:$L$711,2,FALSE) -> 양면벽체 철거 | C7: =VLOOKUP($A7,'4.건축_산출근거표'!$A$4:$L$711,3,FALSE) -> 0 | D7: =VLOOKUP($A7,'4.건축_산출근거표'!$A$4:$L$711,4,FALSE) -> M2 | E7: =VLOOKUP($A7,'4.건축_산출근거표'!$A$4:$L$711,5,FALSE) -> 1 | G7: =VLOOKUP($A7,'4.건축_산출근거표'!$A$4:$L$711,7,FALSE) -> 0 | I7: =VLOOKUP($A7,'4.건축_산출근거표'!$A$4:$L$711,9,FALSE) -> 20965.578 | K7: =VLOOKUP($A7,'4.건축_산출근거표'!$A$4:$L$711,11,FALSE) -> 20965.578
A8: DE-2 | B8: =VLOOKUP($A8,'4.건축_산출근거표'!$A$4:$L$711,2,FALSE) -> 단면벽체 철거 | C8: =VLOOKUP($A8,'4.건축_산출근거표'!$A$4:$L$711,3,FALSE) -> 0 | D8: =VLOOKUP($A8,'4.건축_산출근거표'!$A$4:$L$711,4,FALSE) -> M2 | E8: =VLOOKUP($A8,'4.건축_산출근거표'!$A$4:$L$711,5,FALSE) -> 1 | G8: =VLOOKUP($A8,'4.건축_산출근거표'!$A$4:$L$711,7,FALSE) -> 0 | I8: =VLOOKUP($A8,'4.건축_산출근거표'!$A$4:$L$711,9,FALSE) -> 15262.509 | K8: =VLOOKUP($A8,'4.건축_산출근거표'!$A$4:$L$711,11,FALSE) -> 15262.509
A9: DE-3 | B9: =VLOOKUP($A9,'4.건축_산출근거표'!$A$4:$L$711,2,FALSE) -> 기존 문 철거 | C9: =VLOOKUP($A9,'4.건축_산출근거표'!$A$4:$L$711,3,FALSE) -> 0 | D9: =VLOOKUP($A9,'4.건축_산출근거표'!$A$4:$L$711,4,FALSE) -> SET | E9: =VLOOKUP($A9,'4.건축_산출근거표'!$A$4:$L$711,5,FALSE) -> 1 | G9: =VLOOKUP($A9,'4.건축_산출근거표'!$A$4:$L$711,7,FALSE) -> 0 | I9: =VLOOKUP($A9,'4.건축_산출근거표'!$A$4:$L$711,9,FALSE) -> 58690.43 | K9: =VLOOKUP($A9,'4.건축_산출근거표'!$A$4:$L$711,11,FALSE) -> 58690.43
A10: DE-4 | B10: =VLOOKUP($A10,'4.건축_산출근거표'!$A$4:$L$711,2,FALSE) -> 천장 철거 | C10: =VLOOKUP($A10,'4.건축_산출근거표'!$A$4:$L$711,3,FALSE) -> 0 | D10: =VLOOKUP($A10,'4.건축_산출근거표'!$A$4:$L$711,4,FALSE) -> M2 | E10: =VLOOKUP($A10,'4.건축_산출근거표'!$A$4:$L$711,5,FALSE) -> 1 | G10: =VLOOKUP($A10,'4.건축_산출근거표'!$A$4:$L$711,7,FALSE) -> 0 | I10: =VLOOKUP($A10,'4.건축_산출근거표'!$A$4:$L$711,9,FALSE) -> 12243.502 | K10: =VLOOKUP($A10,'4.건축_산출근거표'!$A$4:$L$711,11,FALSE) -> 12243.502
A11: DE-5 | B11: =VLOOKUP($A11,'4.건축_산출근거표'!$A$4:$L$711,2,FALSE) -> 문자리 컷팅 | C11: =VLOOKUP($A11,'4.건축_산출근거표'!$A$4:$L$711,3,FALSE) -> 0 | D11: =VLOOKUP($A11,'4.건축_산출근거표'!$A$4:$L$711,4,FALSE) -> 식 | E11: =VLOOKUP($A11,'4.건축_산출근거표'!$A$4:$L$711,5,FALSE) -> 1 | G11: =VLOOKUP($A11,'4.건축_산출근거표'!$A$4:$L$711,7,FALSE) -> 0 | I11: =VLOOKUP($A11,'4.건축_산출근거표'!$A$4:$L$711,9,FALSE) -> 208877.02 | K11: =VLOOKUP($A11,'4.건축_산출근거표'!$A$4:$L$711,11,FALSE) -> 208877.02
A12: AA-1 | B12: =VLOOKUP($A12,'4.건축_산출근거표'!$A$4:$L$711,2,FALSE) -> 건식칸막이(방음벽체) | C12: =VLOOKUP($A12,'4.건축_산출근거표'!$A$4:$L$711,3,FALSE) -> 양면벽체 | D12: =VLOOKUP($A12,'4.건축_산출근거표'!$A$4:$L$711,4,FALSE) -> M2 | E12: =VLOOKUP($A12,'4.건축_산출근거표'!$A$4:$L$711,5,FALSE) -> 1 | G12: =VLOOKUP($A12,'4.건축_산출근거표'!$A$4:$L$711,7,FALSE) -> 23266.056 | I12: =VLOOKUP($A12,'4.건축_산출근거표'!$A$4:$L$711,9,FALSE) -> 58690.43 | K12: =VLOOKUP($A12,'4.건축_산출근거표'!$A$4:$L$711,11,FALSE) -> 81956.486
A13: AA-2 | B13: =VLOOKUP($A13,'4.건축_산출근거표'!$A$4:$L$711,2,FALSE) -> 건식칸막이(방음벽체) | C13: =VLOOKUP($A13,'4.건축_산출근거표'!$A$4:$L$711,3,FALSE) -> 단면벽체 | D13: =VLOOKUP($A13,'4.건축_산출근거표'!$A$4:$L$711,4,FALSE) -> M2 | E13: =VLOOKUP($A13,'4.건축_산출근거표'!$A$4:$L$711,5,FALSE) -> 1 | G13: =VLOOKUP($A13,'4.건축_산출근거표'!$A$4:$L$711,7,FALSE) -> 17658.278 | I13: =VLOOKUP($A13,'4.건축_산출근거표'!$A$4:$L$711,9,FALSE) -> 58690.43 | K13: =VLOOKUP($A13,'4.건축_산출근거표'!$A$4:$L$711,11,FALSE) -> 76348.708
A14: AA-3 | B14: =VLOOKUP($A14,'4.건축_산출근거표'!$A$4:$L$711,2,FALSE) -> 건식칸막이(일반벽체) | C14: =VLOOKUP($A14,'4.건축_산출근거표'!$A$4:$L$711,3,FALSE) -> 단면벽체 | D14: =VLOOKUP($A14,'4.건축_산출근거표'!$A$4:$L$711,4,FALSE) -> M2 | E14: =VLOOKUP($A14,'4.건축_산출근거표'!$A$4:$L$711,5,FALSE) -> 1 | G14: =VLOOKUP($A14,'4.건축_산출근거표'!$A$4:$L$711,7,FALSE) -> 17658.278 | I14: =VLOOKUP($A14,'4.건축_산출근거표'!$A$4:$L$711,9,FALSE) -> 39909.492 | K14: =VLOOKUP($A14,'4.건축_산출근거표'!$A$4:$L$711,11,FALSE) -> 57567.77
A15: AA-4 | B15: =VLOOKUP($A15,'4.건축_산출근거표'!$A$4:$L$711,2,FALSE) -> 방진바닥 | C15: =VLOOKUP($A15,'4.건축_산출근거표'!$A$4:$L$711,3,FALSE) -> 건식 FLOATING FLOOR | D15: =VLOOKUP($A15,'4.건축_산출근거표'!$A$4:$L$711,4,FALSE) -> M2 | E15: =VLOOKUP($A15,'4.건축_산출근거표'!$A$4:$L$711,5,FALSE) -> 1 | G15: =VLOOKUP($A15,'4.건축_산출근거표'!$A$4:$L$711,7,FALSE) -> 74339.886 | I15: =VLOOKUP($A15,'4.건축_산출근거표'!$A$4:$L$711,9,FALSE) -> 49638.204 | K15: =VLOOKUP($A15,'4.건축_산출근거표'!$A$4:$L$711,11,FALSE) -> 123978.09
... A99: F-18 | B99: =VLOOKUP($A99,'4.건축_산출근거표'!$A$4:$L$711,2,FALSE) -> OUTLET BOX | C99: =VLOOKUP($A99,'4.건축_산출근거표'!$A$4:$L$711,3,FALSE) -> 54mm , Octagon | D99: =VLOOKUP($A99,'4.건축_산출근거표'!$A$4:$L$711,4,FALSE) -> EA | E99: =VLOOKUP($A99,'4.건축_산출근거표'!$A$4:$L$711,5,FALSE) -> 1 | G99: =VLOOKUP($A99,'4.건축_산출근거표'!$A$4:$L$711,7,FALSE) -> 3049.2 | I99: =VLOOKUP($A99,'4.건축_산출근거표'!$A$4:$L$711,9,FALSE) -> 27831.836 | K99: =VLOOKUP($A99,'4.건축_산출근거표'!$A$4:$L$711,11,FALSE) -> 30881.036

Sheet 4.건축_산출근거표
A1: No | B1: 품 명 DESCRIPTION | C1: 규 격 SPECIFICATION | D1: 단위UNIT | E1: 수량 Q'TY | F1: 자재비 MATERIALS COSTS | H1: 인건비 LABOR COSTS | J1: 합계 TOTAL COSTS | L1: 비고 NOTE
F2: 단가 UNIT PRICE | G2: 금액 AMOUNT | H2: 단가 UNIT PRICE | I2: 금액 AMOUNT | J2: 단가 UNIT PRICE | K2: 금액 AMOUNT
A4: TE-1 | B4: 현장정리 | C4: 콘크리트 외 | D4: M2 | E4: 1 | G4: =SUM(G5:G6) -> 0 | I4: =SUM(I5:I6) -> 12582.943 | K4: =I4+G4 -> 12582.943
A5: L2 | B5: 현장정리 | C5: =VLOOKUP($A5,'5.전축_자재단가표'!$A$4:$P$156,2,FALSE) -> 보통인부 | D5: 인 | E5: 0.15 | H5: =VLOOKUP($A5,'5.전축_자재단가표'!$A$4:$P$156,6,FALSE) -> 81443 | I5: =H5*E5 -> 12216.45 | L5: 건축 2-10
B6: 공구손료 | D6: % | E6: 3 | I6: =SUM(I5)*E6% -> 366.4935
A8: TE-2 | B8: 현장보양 | C8: 바닥 보양 | D8: M2 | E8: 1 | G8: =SUM(G9:G10) -> 0 | I8: =SUM(I9:I10) -> 3521.4258 | K8: =I8+G8 -> 3521.4258
A9: L10 | B9: 목재보양 | C9: =VLOOKUP($A9,'5.전축_자재단가표'!$A$4:$P$156,2,FALSE) -> 건축목공 | D9: 인 | E9: 0.03 | H9: =VLOOKUP($A9,'5.전축_자재단가표'!$A$4:$P$156,6,FALSE) -> 113962 | I9: =H9*E9 -> 3418.86 | L9: 건축 2-9
B10: 공구손료 | D10: % | E10: 3 | I10: =SUM(I9)*E10% -> 102.5658
A12: TE-3 | B12: 이동식 비계 설치 | D12: 대 | E12: 1 | G12: =SUM(G13:G19) -> 282870 | I12: =SUM(I13:I19) -> 4402.5877 | K12: =I12+G12 -> 287272.59
A13: A37 | B13: =VLOOKUP($A13,'5.전축_자재단가표'!$A$4:$P$156,2,FALSE) -> 비계 기본틀 | C13: =VLOOKUP($A13,'5.전축_자재단가표'!$A$4:$P$156,3,FALSE) -> 1219 X 1700 | D13: =VLOOKUP($A13,'5.전축_자재단가표'!$A$4:$P$156,4,FALSE) -> EA | E13: 2 | F13: =VLOOKUP($A13,'5.전축_자재단가표'!$A$4:$P$156,6,FALSE) -> 28300 | G13: =F13*E13 -> 56600
A14: A38 | B14: =VLOOKUP($A14,'5.전축_자재단가표'!$A$4:$P$156,2,FALSE) -> 가세 | C14: =VLOOKUP($A14,'5.전축_자재단가표'!$A$4:$P$156,3,FALSE) -> L1518 | D14: =VLOOKUP($A14,'5.전축_자재단가표'!$A$4:$P$156,4,FALSE) -> EA | E14: 2 | F14: =VLOOKUP($A14,'5.전축_자재단가표'!$A$4:$P$156,6,FALSE) -> 8900 | G14: =F14*E14 -> 17800
A15: A39 | B15: =VLOOKUP($A15,'5.전축_자재단가표'!$A$4:$P$156,2,FALSE) -> 바퀴 | C15: =VLOOKUP($A15,'5.전축_자재단가표'!$A$4:$P$156,3,FALSE) -> 0 | D15: =VLOOKUP($A15,'5.전축_자재단가표'!$A$4:$P$156,4,FALSE) -> EA | E15: 4 | F15: =VLOOKUP($A15,'5.전축_자재단가표'!$A$4:$P$156,6,FALSE) -> 4650 | G15: =F15*E15 -> 18600
A16: A40 | B16: =VLOOKUP($A16,'5.전축_자재단가표'!$A$4:$P$156,2,FALSE) -> 발판 | C16: =VLOOKUP($A16,'5.전축_자재단가표'!$A$4:$P$156,3,FALSE) -> 0 | D16: =VLOOKUP($A16,'5.전축_자재단가표'!$A$4:$P$156,4,FALSE) -> 매 | E16: 7 | F16: =VLOOKUP($A16,'5.전축_자재단가표'!$A$4:$P$156,6,FALSE) -> 25200 | G16: =F16*E16 -> 176400
B17: 잡자재 | D17: % | E17: 5 | G17: =SUM(G13:G16)*E17% -> 13470
A18: L4 | B18: 이동식 비계 (조립,해체) | C18: =VLOOKUP($A18,'5.전축_자재단가표'!$A$4:$P$156,2,FALSE) -> 비계공 | D18: 인 | E18: 0.0302 | H18: =VLOOKUP($A18,'5.전축_자재단가표'!$A$4:$P$156,6,FALSE) -> 141535 | I18: =H18*E18 -> 4274.357 | L18: 건축 2-6-2
B19: 공구손료 | D19: % | E19: 3 | I19: =SUM(I18)*E19% -> 128.23071
A21: DE-1 | B21: 양면벽체 철거 | D21: M2 | E21: 1 | G21: =SUM(G22:G26) -> 0 | I21: =SUM(I22:I26) -> 20965.578 | K21: =I21+G21 -> 20965.578
A22: L10 | B22: 칸막이 철거 | C22: =VLOOKUP($A22,'5.전축_자재단가표'!$A$4:$P$156,2,FALSE) -> 건축목공 | D22: 인 | E22: 0.06 | H22: =VLOOKUP($A22,'5.전축_자재단가표'!$A$4:$P$156,6,FALSE) -> 113962 | I22: =H22*E22 -> 6837.72 | L22: 건축 20-1-2
A23: L2 | B23: 칸막이 철거 | C23: =VLOOKUP($A23,'5.전축_자재단가표'!$A$4:$P$156,2,FALSE) -> 보통인부 | D23: 인 | E23: 0.03 | H23: =VLOOKUP($A23,'5.전축_자재단가표'!$A$4:$P$156,6,FALSE) -> 81443 | I23: =H23*E23 -> 2443.29 | L23: 건축 20-1-2
A24: L10 | B24: 판재철거 | C24: =VLOOKUP($A24,'5.전축_자재단가표'!$A$4:$P$156,2,FALSE) -> 건축목공 | D24: 인 | E24: =0.01*4 -> 0.04 | H24: =VLOOKUP($A24,'5.전축_자재단가표'!$A$4:$P$156,6,FALSE) -> 113962 | I24: =H24*E24 -> 4558.48 | L24: 건축 20-1-2
A25: L2 | B25: 판재철거 | C25: =VLOOKUP($A25,'5.전축_자재단가표'!$A$4:$P$156,2,FALSE) -> 보통인부 | D25: 인 | E25: =0.02*4 -> 0.08 | H25: =VLOOKUP($A25,'5.전축_자재단가표'!$A$4:$P$156,6,FALSE) -> 81443 | I25: =H25*E25 -> 6515.44 | L25: 건축 20-1-2
B26: 공구손료 | D26: % | E26: 3 | I26: =SUM(I22:I25)*E26% -> 610.6479
A28: DE-2 | B28: 단면벽체 철거 | D28: M2 | E28: 1 | G28: =SUM(G29:G33) -> 0 | I28: =SUM(I29:I33) -> 15262.509 | K28: =I28+G28 -> 15262.509
A29: L10 | B29: 칸막이 철거 | C29: =VLOOKUP($A29,'5.전축_자재단가표'!$A$4:$P$156,2,FALSE) -> 건축목공 | D29: 인 | E29: 0.06 | H29: =VLOOKUP($A29,'5.전축_자재단가표'!$A$4:$P$156,6,FALSE) -> 113962 | I29: =H29*E29 -> 6837.72 | L29: 건축 20-1-2
A30: L2 | B30: 칸막이 철거 | C30: =VLOOKUP($A30,'5.전축_자재단가표'!$A$4:$P$156,2,FALSE) -> 보통인부 | D30: 인 | E30: 0.03 | H30: =VLOOKUP($A30,'5.전축_자재단가표'!$A$4:$P$156,6,FALSE) -> 81443 | I30: =H30*E30 -> 2443.29 | L30: 건축 20-1-2
A31: L10 | B31: 판재철거 | C31: =VLOOKUP($A31,'5.전축_자재단가표'!$A$4:$P$156,2,FALSE) -> 건축목공 | D31: 인 | E31: =0.01*2 -> 0.02 | H31: =VLOOKUP($A31,'5.전축_자재단가표'!$A$4:$P$156,6,FALSE) -> 113962 | I31: =H31*E31 -> 2279.24 | L31: 건축 20-1-2
A32: L2 | B32: 판재철거 | C32: =VLOOKUP($A32,'5.전축_자재단가표'!$A$4:$P$156,2,FALSE) -> 보통인부 | D32: 인 | E32: =0.02*2 -> 0.04 | H32: =VLOOKUP($A32,'5.전축_자재단가표'!$A$4:$P$156,6,FALSE) -> 81443 | I32: =H32*E32 -> 3257.72 | L32: 건축 20-1-2
B33: 공구손료 | D33: % | E33: 3 | I33: =SUM(I29:I32)*E33% -> 444.5391
A35: DE-3 | B35: 기존 문 철거 | D35: SET | E35: 1 | G35: =SUM(G36:G37) -> 0 | I35: =SUM(I36:I37) -> 58690.43 | K35: =I35+G35 -> 58690.43
A36: L10 | B36: 기존 문 철거 | C36: =VLOOKUP($A36,'5.전축_자재단가표'!$A$4:$P$156,2,FALSE) -> 건축목공 | D36: 인 | E36: 0.5 | H36: =VLOOKUP($A36,'5.전축_자재단가표'!$A$4:$P$156,6,FALSE) -> 113962 | I36: =H36*E36 -> 56981 | L36: -
B37: 공구손료 | D37: % | E37: 3 | I37: =SUM(I36:I36)*E37% -> 1709.43
A39: DE-4 | B39: 천장 철거 | D39: M2 | E39: 1 | G39: =SUM(G40:G44) -> 0 | I39: =SUM(I40:I44) -> 12243.502 | K39: =I39+G39 -> 12243.502
A40: L10 | B40: 골조 철거 | C40: =VLOOKUP($A40,'5.전축_자재단가표'!$A$4:$P$156,2,FALSE) -> 건축목공 | D40: 인 | E40: 0.05 | H40: =VLOOKUP($A40,'5.전축_자재단가표'!$A$4:$P$156,6,FALSE) -> 113962 | I40: =H40*E40 -> 5698.1 | L40: 건축 20-1-2
A41: L2 | B41: 골조 철거 | C41: =VLOOKUP($A41,'5.전축_자재단가표'!$A$4:$P$156,2,FALSE) -> 보통인부 | D41: 인 | E41: 0.025 | H41: =VLOOKUP($A41,'5.전축_자재단가표'!$A$4:$P$156,6,FALSE) -> 81443 | I41: =H41*E41 -> 2036.075 | L41: 건축 20-1-2
A42: L10 | B42: 텍스 철거 | C42: =VLOOKUP($A42,'5.전축_자재단가표'!$A$4:$P$156,2,FALSE) -> 건축목공 | D42: 인 | E42: 0.015 | H42: =VLOOKUP($A42,'5.전축_자재단가표'!$A$4:$P$156,6,FALSE) -> 113962 | I42: =H42*E42 -> 1709.43 | L42: 건축 20-1-2
A43: L2 | B43: 텍스 철거 | C43: =VLOOKUP($A43,'5.전축_자재단가표'!$A$4:$P$156,2,FALSE) -> 보통인부 | D43: 인 | E43: 0.03 | H43: =VLOOKUP($A43,'5.전축_자재단가표'!$A$4:$P$156,6,FALSE) -> 81443 | I43: =H43*E43 -> 2443.29 | L43: 건축 20-1-2
B44: 공구손료 | D44: % | E44: 3 | I44: =SUM(I40:I43)*E44% -> 356.60685
A46: DE-5 | B46: 문자리 컷팅 | D46: 식 | E46: 1 | G46: =SUM(G47:G48) -> 0 | I46: =SUM(I47:I48) -> 208877.02 | K46: =I46+G46 -> 208877.02
A47: L9 | B47: 문자리 컷팅 | C47: =VLOOKUP($A47,'5.전축_자재단가표'!$A$4:$P$156,2,FALSE) -> 할석공 | D47: 인 | E47: =5*(0.9*2.1*0.2) -> 1.89 | H47: =VLOOKUP($A47,'5.전축_자재단가표'!$A$4:$P$156,6,FALSE) -> 107298 | I47: =H47*E47 -> 202793.22 | L47: 건축 20-1-3
B48: 공구손료 | D48: % | E48: 3 | I48: =SUM(I47:I47)*E48% -> 6083.7966
...

Sheet 5.전축_자재단가표
A1: No | B1: 품 명 DESCRIPTION | C1: 규 격 SPECIFICATION | D1: 단위UNIT | E1: 수량 Q'TY | F1: 적용단가 UNIT PRICE | G1: 물가정보 | I1: 물가자료 | K1: 거래가격 | M1: 견적서 | O1: 시중가 | P1: 비고 NOTE
G2: PAGE | H2: 단가 UNIT PRICE | I2: PAGE | J2: 단가 UNIT PRICE | K2: PAGE | L2: 단가 UNIT PRICE | M2: 견적서-1 | N2: 견적서-2
A4: A1 | B4: 각재 | C4: 30 X 30 X 3600 | D4: 재 | E4: 1 | F4: =MIN(H4,J4,L4,M4,N4,O4) -> 1800 | I4: 139 | J4: 1800
A5: A2 | B5: 각재 | C5: 69 X 30 X 3600 | D5: 재 | E5: 1 | F5: =MIN(H5,J5,L5,M5,N5,O5) -> 1800 | I5: 139 | J5: 1800
A6: A3 | B6: POLYESTER | C6: 24K 50T | D6: M2 | E6: 1 | F6: =MIN(H6,J6,L6,M6,N6,O6) -> 6600 | I6: 1076 | J6: 6600
A7: A4 | B7: POLYESTER | C7: 32K 25T | D7: M2 | E7: 1 | F7: =MIN(H7,J7,L7,M7,N7,O7) -> 4400 | I7: 1076 | J7: 4400
A8: A5 | B8: 석고보드 | C8: 3 X 6 X 12.5T | D8: M2 | E8: 1 | F8: =MIN(H8,J8,L8,M8,N8,O8) -> 2592.5926 | I8: 686 | J8: =4200/1.62 -> 2592.5926
A9: A6 | B9: 합판 | C9: 4 X 8 X 12T | D9: M2 | E9: 1 | F9: =MIN(H9,J9,L9,M9,N9,O9) -> 9826.3889 | G9: (2)361 | H9: =28300/2.88 -> 9826.3889
A10: A7 | B10: M.D.F | C10: 4 X 8 X 9T | D10: M2 | E10: 1 | F10: =MIN(H10,J10,L10,M10,N10,O10) -> 4097.2222 | I10: 682 | J10: =11800/2.88 -> 4097.2222
A11: A8 | B11: M.D.F | C11: 4 X 8 X 12T | D11: M2 | E11: 1 | F11: =MIN(H11,J11,L11,M11,N11,O11) -> 5277.7778 | I11: 682 | J11: =15200/2.88 -> 5277.7778
A12: A9 | B12: M.D.F | C12: 4 X 8 X 25T | D12: M2 | E12: 1 | F12: =MIN(H12,J12,L12,M12,N12,O12) -> 12500 | I12: 682 | J12: =36000/2.88 -> 12500
A13: A10 | B13: 방진고무 | C13: M-5 | D13: EA | E13: 1 | F13: =MIN(H13,J13,L13,M13,N13,O13) -> 8000 | G13: (1)747 | H13: 8000
A14: A11 | B14: 방진헹거 | C14: 50KG | D14: EA | E14: 1 | F14: =MIN(H14,J14,L14,M14,N14,O14) -> 25800 | G14: (1)747 | H14: 25800
A15: A12 | B15: ANCHOR | C15: 10mm | D15: EA | E15: 1 | F15: =MIN(H15,J15,L15,M15,N15,O15) -> 180 | I15: 535 | J15: 180
A16: A13 | B16: 달대볼트 | C16: 9mm L1000 | D16: EA | E16: 1 | F16: =MIN(H16,J16,L16,M16,N16,O16) -> 1160 | I16: 535 | J16: 1160
A17: A14 | B17: HANGER | C17: H150 | D17: EA | E17: 1 | F17: =MIN(H17,J17,L17,M17,N17,O17) -> 105 | M17: 105
A18: A15 | B18: HANGER PIN | D18: EA | E18: 1 | F18: =MIN(H18,J18,L18,M18,N18,O18) -> 250 | I18: 535 | J18: 250
A19: A16 | B19: CARRYING CHANNEL | C19: 1.2T 38 X 12 @ 900 | D19: M | E19: 1 | F19: =MIN(H19,J19,L19,M19,N19,O19) -> 1250 | I19: 535 | J19: 1250
A20: A17 | B20: CARRYING CHANNEL(J) | D20: EA | E20: 1 | F20: =MIN(H20,J20,L20,M20,N20,O20) -> 60 | M20: 60
A21: A18 | B21: MINOR CHANNEL | C21: 1.2T 19 X 10 @ 1800 | D21: M | E21: 1 | F21: =MIN(H21,J21,L21,M21,N21,O21) -> 780 | I21: 535 | J21: 780
A22: A19 | B22: MINOR CHANNEL CLIP | C22: 19형 | D22: EA | E22: 1 | F22: =MIN(H22,J22,L22,M22,N22,O22) -> 81 | M22: 81
A23: A20 | B23: M-BAR | C23: M-BAR @ 300 | D23: M | E23: 1 | F23: =MIN(H23,J23,L23,M23,N23,O23) -> 800 | I23: 535 | J23: 800
A24: A21 | B24: M-BAR (J) | D24: EA | E24: 1 | F24: =MIN(H24,J24,L24,M24,N24,O24) -> 45 | M24: 45
A25: A22 | B25: M-BAR CLIP | D25: EA | E25: 1 | F25: =MIN(H25,J25,L25,M25,N25,O25) -> 35 | M25: 35
A26: A23 | B26: POLYESTER + FABRIC | C26: 1000 X 2000 X 50T | D26: M2 | E26: 1 | F26: =MIN(H26,J26,L26,M26,N26,O26) -> 28800 | I26: 1076 | J26: 28800
A27: A24 | B27: 압축흡음보드 | C27: 4 X 8 X 9T | D27: M2 | E27: 1 | F27: =MIN(H27,J27,L27,M27,N27,O27) -> 23900 | I27: 1076 | J27: 23900
A28: A25 | B28: FABRIC | D28: M | E28: 1 | F28: =MIN(H28,J28,L28,M28,N28,O28) -> 13200 | I28: 1072 | J28: 13200
A29: A26 | B29: INTERIOR FILM | D29: M2 | E29: 1 | F29: =MIN(H29,J29,L29,M29,N29,O29) -> 45000 | I29: 682 | J29: 45000 | P29: 시공비포함
A30: A27 | B30: ACCESS FLOOR | C30: WOOD + LAMINATE | D30: M2 | E30: 1 | F30: =MIN(H30,J30,L30,M30,N30,O30) -> 88000 | I30: 658 | J30: 88000 | P30: 시공비포함
A31: A28 | B31: CARPET TILE | D31: M2 | E31: 1 | F31: =MIN(H31,J31,L31,M31,N31,O31) -> 22500 | I31: 644 | J31: 22500
A32: A29 | B32: 흡음텍스 | C32: 300 X 600 X 12T | D32: M2 | E32: 1 | F32: =MIN(H32,J32,L32,M32,N32,O32) -> 7900 | I32: 690 | J32: 7900
A33: A30 | B33: LINE 타공판 | D33: M2 | E33: 1 | F33: =MIN(H33,J33,L33,M33,N33,O33) -> 50000 | G33: (1)742 | H33: 89000 | M33: 50000
A34: A30-1 | B34: 방음문 | C34: W1050 X H2240 | D34: SET | E34: 3 | F34: =MIN(H34,J34,L34,M34,N34,O34) -> 2268000 | I34: 593 | J34: 2268000
A35: A31 | B35: 방음시창 | C35: W1800 X H1200 | D35: M2 | E35: 1 | F35: =MIN(H35,J35,L35,M35,N35,O35) -> 550000 | I35: 593 | J35: 550000
A36: A32 | B36: 방음시창 | C36: W1200 X H1200 | D36: M2 | E36: 1 | F36: =MIN(H36,J36,L36,M36,N36,O36) -> 550000 | I36: 593 | J36: 550000
A37: A33 | B37: 슬라이딩 문 | C37: W3000 X H2100 | D37: M2 | E37: 1 | F37: =MIN(H37,J37,L37,M37,N37,O37) -> 105000 | I37: 577 | J37: 105000
A38: A34 | B38: 자동문 | C38: W1800 X H2100 | D38: SET | E38: 1 | F38: =MIN(H38,J38,L38,M38,N38,O38) -> 2600000 | G38: (2)312 | H38: 2600000
A39: A35 | B39: 복층유리 | C39: 16T | D39: M2 | E39: 1 | F39: =MIN(H39,J39,L39,M39,N39,O39) -> 18220 | G39: (2)332 | H39: 18220
A40: A36 | B40: 일반유리 | C40: 10T | D40: M2 | E40: 1 | F40: =MIN(H40,J40,L40,M40,N40,O40) -> 25700 | G40: (2)333 | H40: 25700
A41: A37 | B41: 비계 기본틀 | C41: 1219 X 1700 | D41: EA | E41: 1 | F41: =MIN(H41,J41,L41,M41,N41,O41) -> 28300 | G41: (2)164 | H41: 28300
...
