Workbook
Name _: #REF!
Name _.: #REF!
Name __: #REF!
Name ___: #REF!
Name ____: #REF!
Name _____: #REF!
Name ______: #REF!
Name _______: #REF!
Name __________: #REF!
Name _____________0: #REF!
Name _____________11: #REF!
Name _____________12: #REF!
Name __________0: #REF!
Name __________11: #REF!
Name __________12: #REF!
Name _________0: #REF!
Name _________10: #REF!
Name _________11: #REF!
Name _________12: #REF!
Name ________0: #REF!
Name ________10: #REF!
Name ________11: #REF!
Name ________12: #REF!
Name _______0: #REF!
Name ______0: #REF!
Name ______11: #REF!
Name ______12: #REF!
Name _____0: #REF!
Name _____10: #REF!
Name _____11: #REF!
Name _____12: #REF!
Name _____A20000: [1]갑지!#REF!
Name _____AA1: #REF!
Name _____MOK1: #REF!
Name _____MOK2: #REF!
Name _____MOK3: #REF!
Name _____MOK4: #REF!
Name ____0: #REF!
Name ____1: #REF!
Name ____10: #REF!
Name ____11: #REF!
Name ____12: #REF!
Name ____2: #REF!
Name ____3: #REF!
Name ____4: #REF!
Name ____5: #REF!
Name ____7: #REF!
Name ____8: #REF!
Name ____9: #REF!
Name ____A20000: [1]갑지!#REF!
Name ____AA1: #REF!
Name ____DOG1: #REF!
Name ____DOG2: #REF!
Name ____DOG3: #REF!
Name ____DOG4: #REF!
Name ____MOK1: #REF!
Name ____MOK2: #REF!
Name ____MOK3: #REF!
Name ____MOK4: #REF!
Name ____PI48: #REF!

Sheet 공사원가계산서
A1: 공 사 원 가 계 산 서
A2: 공사명 : 부산전주 송신소 이전 및 대구국악방송 제작시설 설치
A3: 비 목 | C3: 구 분 | D3: 금 액 | E3: 적용율(%) | F3: 비 고
A5: 순 공 사 비 | B5: 재 료 비 | C5: 직접재료비 | D5: ='1 세부내역서'!G349 -> 0
C6: 간접재료비
C7: 작업부산물(▲)
C8: 소 계 | D8: =SUM(D5:D7) -> 0 | E8: =D8/D27 -> #DIV/0!
B9: 노 무 비 | C9: 직접노무비 | D9: ='1 세부내역서'!I349 -> 0 | F9: 적용률 40%
C10: 간접노무비 | D10: =D9*E10 -> 0 | E10: 0.01 | F10: 직접노무비의 1.0%
C11: 소 계 | D11: =SUM(D9:D10) -> 0 | E11: =D11/D27 -> #DIV/0!
B12: 경 비 | C12: 운 반 비
C13: 산재보험료 | D13: =D11*E13 -> 0 | E13: 0.037 | F13: 노무비의 3.7%
C14: 고용보험료 | D14: =D11*E14 -> 0 | E14: 0.0079 | F14: 노무비의 0.79%
C15: 건강보험료 | D15: =D9*E15 -> 0 | E15: 0.017 | F15: 직접노무비의 1.7%
C16: 연금보험료 | D16: =D9*E16 -> 0 | E16: 0.0249 | F16: 직접노무비의 2.49%
C17: 외주가공비
C18: 안전관리비
C19: 폐기물처리비
C20: 기타 경비 | D20: =(D5+D11)*E20 -> 0 | E20: 0.005 | F20: 재료비+노무비의 0.5 %
C21: 소 계 | D21: =SUM(D12:D20) -> 0 | E21: =D21/D27 -> #DIV/0!
A22: 순 공 사 원 가 | D22: =D21+D11+D8 -> 0
A23: 일 반 관 리 비 | D23: =D22*E23 -> 0 | E23: 0.01 | F23: (재료비+노무비+경비)의 1.0%
A24: 이 윤 | D24: =(D11+D21+D23)*E24 -> 0 | E24: 0.027 | F24: (노무비+경비+ 일반관리비)-외주가공비의2.7%
A25: 합 계 | D25: =SUM(D22:D24) -> 0 | E25: =D25/D27 -> #DIV/0!
A26: 부가가치세(VAT 10%) | D26: =D25*10% -> 0 | E26: =D26/D27 -> #DIV/0!
A27: 합 계 | D27: =SUM(D25:D26) -> 0 | E27: =D27/D27 -> #DIV/0!

Sheet 총괄내역서
A1: 총 괄 내 역 서
A3: 번호 NO. | B3: 품 명 DESCRIPTION | C3: 규 격 SPEC | D3: 단 위 UNIT | E3: 수 량 Q'TY | F3: 자 재 비 | H3: 노 무 비 | J3: 경 비 | L3: 합 계 | N3: 비 고 REMARK
F4: 단 가 UNIT PRICE | G4: 금 액 TOTAL PRICE | H4: 단 가 UNIT PRICE | I4: 금 액 TOTAL PRICE | J4: 단 가 UNIT PRICE | K4: 금 액 TOTAL PRICE | L4: 단 가 UNIT PRICE | M4: 금 액 TOTAL PRICE
A5: 부산/전주 송신소 이설 및 대구국악방송 제작시설 설치
A7: A | B7: 부산/전주 송신소 이설
A8: A-1 | B8: 부산/전주 이설 전 전계강도 조사 (방송권역 전 지역) | D8: 식 | E8: 1 | I8: ='1 세부내역서'!I7 -> 0
A9: A-2 | B9: 전주국악방송 송신소 이설 | D9: 식 | E9: 1 | G9: ='1 세부내역서'!G55 -> 0 | I9: ='1 세부내역서'!I55 -> 0
A10: A-3 | B10: 부산국악방송 송신소 이설 | D10: 식 | E10: 1 | G10: ='1 세부내역서'!G106 -> 0 | I10: ='1 세부내역서'!I106 -> 0
A11: A-4 | B11: 안테나 특성측정 및 원격제어설치(부산 및 전주) | D11: 식 | E11: 1 | G11: ='1 세부내역서'!G109 -> 0
A12: A-5 | B12: 무선국 검사수수료 (부산 및 전주) | D12: 식 | E12: 1 | G12: ='1 세부내역서'!G111 -> 0
A13: 소 계 | G13: =SUM(G8:G12) -> 0 | I13: =SUM(I8:I12) -> 0
A14: B | B14: 대구국악방송 제작시설 설치
A15: B-1 | B15: 기계실 장비 | D15: 식 | E15: 1 | G15: ='1 세부내역서'!G129 -> 0 | I15: ='1 세부내역서'!I129 -> 0
A16: B-2 | B16: 방송제작장비 | D16: 식 | E16: 1 | G16: ='1 세부내역서'!G141 -> 0 | I16: ='1 세부내역서'!I141 -> 0
A17: B-3 | B17: 방송제작보조장비 | D17: 식 | E17: 1 | G17: ='1 세부내역서'!G168 -> 0 | I17: ='1 세부내역서'!I168 -> 0
A18: B-4 | B18: 공사자재비 및 인건비 | D18: 식 | E18: 1 | G18: ='1 세부내역서'!G195 -> 0 | I18: ='1 세부내역서'!I195 -> 0
A19: B-5 | B19: 건축음향 | D19: 식 | E19: 1
B20: -가설공사 | D20: 식 | E20: 1 | G20: ='1 세부내역서'!G209 -> 0 | I20: ='1 세부내역서'!I209 -> 0
B21: -철거공사 | D21: 식 | E21: 1 | G21: ='1 세부내역서'!G217 -> 0 | I21: ='1 세부내역서'!I217 -> 0
B22: -실별내장공사 | D22: 식 | E22: 1 | G22: ='1 세부내역서'!G264 -> 0 | I22: ='1 세부내역서'!I264 -> 0
B23: -전기설비공사 | D23: 식 | E23: 1 | G23: ='1 세부내역서'!G300 -> 0 | I23: ='1 세부내역서'!I300 -> 0
B24: -공조설비공사 | D24: 식 | E24: 1 | G24: ='1 세부내역서'!G327 -> 0 | I24: ='1 세부내역서'!I327 -> 0
B25: -소방설비공사 | D25: 식 | E25: 1 | G25: ='1 세부내역서'!G347 -> 0 | I25: ='1 세부내역서'!I347 -> 0
A26: 소 계 | G26: =SUM(G15:G25) -> 0 | I26: =SUM(I15:I25) -> 0
A27: 총 계 | G27: =G13+G26 -> 0 | I27: =I26+I13 -> 0

Sheet 1 세부내역서
A1: 번호 NO. | B1: 품 명 DESCRIPTION | C1: 규 격 SPEC | D1: 단 위 UNIT | E1: 수 량 Q'TY | F1: 자 재 비 | H1: 노 무 비 | J1: 제조사 MAKER | K1: 비 고 REMARK
F2: 단 가 UNIT PRICE | G2: 금 액 TOTAL PRICE | H2: 단 가 UNIT PRICE | I2: 금 액 TOTAL PRICE
A3: A | B3: 부산/전주송신소 이전
A4: A-1 | B4: 부산/전주 이설 전 전계강도 조사 (방송권역 전 지역) | C4: 발주처 지정장소 | D4: 식 | E4: 1
B5: - 이설 전 36개포인트 측정 (3일) | C5: 일비,식비,식비,교통비 | D5: 일 | E5: 3
B6: - 기존 부산국악방송 방송구역 이동간 측정(7일) | C6: 일비,식비,식비,교통비 | D6: 일 | E6: 7
B7: 합 계
A8: A-2 | B8: 전주국악방송 송신소 이설
A9: 1 | B9: 송신기 설치(3.5KW) | C9: Nautel NV 3.5
A10: 1-1 | B10: Automatic RF Transmiter Control Unit | D10: 대 | E10: 2 | K10: 방송-1
A11: 1-2 | B11: AC Line Protector(Surge Protector) | D11: set | E11: 2
A12: 1-3 | B12: 송신기 12Port Auto Changeoner Rack System | D12: 식 | E12: 1 | K12: 방송-2
A13: 1-4 | B13: 5KW Dummy Load | D13: 식 | E13: 1 | K13: 방송-3
A14: 1-5 | B14: Directional Coupler | D14: set | E14: 1
A15: 1-6 | B15: Wattmeter | D15: 식 | E15: 1
A16: 1-7 | B16: Rigid Feeder | C16: 10ft / 3.3m | D16: ea | E16: 1 | J16: Shively | K16: 방송-4
A17: 1-8 | B17: 송신기내 설치 자재
B18: 분전반(800*800*200) | C18: 100A, 50A, 30A | D18: 식 | E18: 1
B19: 전원선 | C19: CV 16㎟ * 4C | D19: M | E19: 40 | K19: 방송-5
B20: 전원선 | C20: CV 10㎟ * 4C | D20: M | E20: 24 | K20: 방송-6
B21: 전원선 | C21: CV 10㎟ * 3C | D21: M | E21: 20 | K21: 방송-7
B22: 전원선 | C22: CV 6㎟ * 3C | D22: M | E22: 36 | K22: 방송-8
B23: 접지선 | C23: GV 25㎟ | D23: M | E23: 40 | K23: 방송-9
B24: 휴렉시블전선관(스틸) | C24: Φ42㎜ | D24: M | E24: 40
B25: 오디오 및 통신케이블 및 콘넥타 | D25: 식 | E25: 1
A26: 1-9 | B26: 케이블트레이 증설
B27: 트레이 | C27: 300*100 | D27: M | E27: 12 | K27: 방송-10
B28: T, L형 | C28: 300*100 | D28: 개 | E28: 2 | K28: 방송-10
B29: 기타자재 | C29: 전산볼트,C찬넬 | D29: 식 | E29: 1
A30: 2 | B30: FM Panal Antenna | C30: CP2 Dipole 1면2단 | J30: Crossbow
B31: FM 안테나 | D31: set | E31: 2 | K31: 방송-11
B32: FM 안테나 가대 | C32: 잡자재 포함 | D32: set | E32: 1
B33: 급전선(1-5/8" Foam케이블)설치 | D33: M | E33: 120 | K33: 방송-12
B34: 급전선(1-5/8" Foam케이블)철거 | D34: M | E34: 90 | K34: 방송-13
B35: Connector | D35: ea | E35: 4
B36: Hoisting grip for 1 5/8" | C36: L7SGIP | D36: 개 | E36: 2
B37: Hanger of 10 1 5/8" | C37: 42396A-2 | D37: 식 | E37: 7
B38: Angle Adapter Kit of 10 | C38: 31768A-M | D38: 식 | E38: 7
A39: 3 | B39: TX Site Remote System | C39: Burk Arcplus | D39: 식 | E39: 1 | K39: Rack장착이동
A40: 4 | B40: Digital Audio Codec | C40: APT WorldnetRio | D40: ea | E40: 2 | K40: Rack장착이동
A41: 5 | B41: Analog & Digital Audio P.I.C | C41: 브로닉스정보통신 | D41: ea | E41: 1 | K41: Rack장착이동
A42: 6 | B42: CDP (비상원음송출) | D42: ea | E42: 1 | K42: Rack장착이동
A43: 7 | B43: FM Band Stereo Modulation Monitor | C43: BELAR | D43: ea | E43: 1 | K43: Rack장착이동
A44: 8 | B44: Audio Jack Field | D44: ea | E44: 1 | K44: Rack장착이동
A45: 9 | B45: DAD | C45: 브로닉스정보통신 | D45: ea | E45: 1 | K45: Rack장착이동
A46: 10 | B46: Tunner | D46: ea | E46: 1 | K46: Rack장착이동
A47: 11 | B47: AMP System | D47: 조 | E47: 1 | K47: Rack장착이동
A48: 12 | B48: Speaker System | D48: ea | E48: 1 | K48: Rack장착이동
A49: 13 | B49: 19" Rack | C49: 포스벽진 | D49: 식 | E49: 2 | K49: 방송-14
A50: 14 | B50: FM Modulation Monitor | D50: ea | E50: 1 | K50: Rack장착이동
A51: 15 | B51: UPS 및 밧테리 | C51: 예성엔지니어링 | D51: 식 | E51: 1 | K51: 방송-15
A52: 16 | B52: 에어컨 | C52: 벽걸이 | D52: 식 | E52: 1
A53: 17 | B53: 시설원상복구 | D53: 식 | E53: 1
A54: 18 | B54: 운반비 (크레인비+경운기+화물 포함) | C54: 소운반 및 상,하차 포함 | D54: 식 | E54: 1
B55: 합 계
A56: A-3 | B56: 부산국악방송 송신소 이설
A57: 1 | B57: 송신기 설치(3.5KW) | C57: Nautel NV 3.5
A58: 1-1 | B58: Automatic RF Transmiter Control Unit | D58: 대 | E58: 2 | K58: 방송-1
A59: 1-2 | B59: AC Line Protector(Surge Protector) | D59: set | E59: 2
A60: 1-3 | B60: 송신기 12Port Auto Changeoner Rack System | D60: 식 | E60: 1 | K60: 방송-2
A61: 1-4 | B61: 5KW Dummy Load | D61: 식 | E61: 1 | K61: 방송-3
A62: 1-5 | B62: Directional Coupler | D62: set | E62: 1
A63: 1-6 | B63: Wattmeter | D63: 식 | E63: 1
A64: 1-7 | B64: Rigid Feeder설치 | C64: 10ft / 3.3m | D64: ea | E64: 1 | J64: Shively | K64: 방송-4
A65: 1-8 | B65: 송신기내 설치 자재
B66: 분전반(800*800*200) | C66: 100A, 50A, 30A | D66: 식 | E66: 1
B67: 전원선 | C67: CV 16㎟ * 4C | D67: M | E67: 50 | K67: 방송-5
B68: 전원선 | C68: CV 10㎟ * 4C | D68: M | E68: 24 | K68: 방송-6
B69: 전원선 | C69: CV 10㎟ * 3C | D69: M | E69: 20 | K69: 방송-7
B70: 전원선 | C70: CV 6㎟ * 3C | D70: M | E70: 36 | K70: 방송-8
B71: 접지선 | C71: GV 25㎟ | D71: M | E71: 20 | K71: 방송-9
B72: 휴렉시블전선관 | C72: Φ42㎜ | D72: M | E72: 40
B73: 오디오 및 통신케이블 및 콘넥타 | D73: 식 | E73: 1
A74: 1-9 | B74: 케이블트레이
B75: 트레이 | C75: 300*100 | D75: M | E75: 8 | K75: 방송-10
B76: T, L형 | C76: 300*100 | D76: 개 | E76: 1 | K76: 방송-10
B77: 기타자재 | C77: 전산볼트,C찬넬 | D77: 식 | E77: 1
A78: 2 | B78: FM Panal Antenna | C78: CP2 Dipole 1면2단 | J78: Crossbow
A79: 2-1 | B79: FM 안테나 | D79: set | E79: 4 | K79: 방송-11
A80: 2-2 | B80: FM 안테나 가대 | C80: 잡자재 포함 | D80: set | E80: 1
A81: 2-3 | B81: 급전선(1-5/8" Foam케이블)철거 | D81: M | E81: 140 | K81: 방송-13
A82: 2-4 | B82: 급전선(1-5/8" Air케이블) 설치 | D82: M | E82: 140
A83: 2-5 | B83: Connector | D83: ea | E83: 4
A84: 2-6 | B84: Reducer | C84: 3-1/8" <-> 1-5/8" | D84: ea | E84: 4 | J84: 주문제작
A85: 2-7 | B85: Hoisting grip for 1 5/8" | C85: L7SGIP | D85: 개 | E85: 2
A86: 2-8 | B86: Hanger of 10 1 5/8" | C86: 42396A-2 | D86: 식 | E86: 10
A87: 2-9 | B87: Angle Adapter Kit of 10 | C87: 31768A-M | D87: 식 | E87: 10
A88: 3 | B88: TX Site Remote System | C88: Burk Arcplus | D88: 식 | E88: 1 | K88: Rack장착이동
A89: 4 | B89: Digital Audio Codec | C89: APT WorldnetRio | D89: ea | E89: 2 | K89: Rack장착이동
A90: 5 | B90: Analog & Digital Audio P.I.C | C90: 브로닉스정보통신 | D90: ea | E90: 1 | K90: Rack장착이동
A91: 6 | B91: CDP (비상원음송출) | D91: ea | E91: 1 | K91: Rack장착이동
A92: 7 | B92: FM Band Stereo Modulation Monitor | C92: BELAR | D92: ea | E92: 1 | K92: Rack장착이동
A93: 8 | B93: Audio Jack Field | D93: ea | E93: 1 | K93: Rack장착이동
A94: 9 | B94: DAD | C94: 브로닉스정보통신 | D94: ea | E94: 1 | K94: Rack장착이동
A95: 10 | B95: Tunner | D95: ea | E95: 1 | K95: Rack장착이동
A96: 11 | B96: AMP System | D96: 조 | E96: 1 | K96: Rack장착이동
A97: 12 | B97: Speaker System | D97: ea | E97: 1 | K97: Rack장착이동
A98: 13 | B98: 19" Rack | C98: 포스벽진 | D98: 식 | E98: 2 | K98: 방송-14
A99: 14 | B99: FM Modulation Monitor | D99: ea | E99: 1 | K99: Rack장착이동
A100: 15 | B100: UPS 및 밧테리 | C100: 예성엔지니어링 | D100: 식 | E100: 1 | K100: 방송-15
...

Sheet 2 방송일위대가표_40%적용
A1: 부산,전주 송신소 이전 및 대국국악방송 제작시설 설치 [일위대가표] | AD1: (2013하반기 노임단가기준 / 적용률 : 40%적용)
A2: 순 | B2: 구 분 | C2: 수량 | D2: 통신관련기사 | F2: 통신산업기사 | H2: 통신설비공 | J2: 통신내선공 | L2: 통신외선공 | N2: 통신기능사 | P2: 통신케이블공 | R2: 송전공 | T2: 무선안테나공 | V2: 특별인부 | X2: 보통인부 | Z2: S/W시험사 | AB2: H/W시험사 | AD2: 비고
D3: 174039 | F3: 163285 | H3: 149755 | J3: 138172 | L3: 184490 | N3: 143507 | P3: 223084 | R3: 342661 | T3: 176534 | V3: 100936 | X3: 83975 | Z3: 215253 | AB3: 194224
D4: 공량(인) | F4: 공량(인) | H4: 공량(인) | J4: 공량(인) | L4: 공량(인) | N4: 공량(인) | P4: 공량(인) | R4: 공량(인) | T4: 공량(인) | V4: 공량(인) | X4: 공량(인) | Z4: 공량(인) | AB4: 공량(인)
A5: A | B5: 송신소 장비
A6: 1 | B6: 송신기(3.5KW) | C6: 1 | D6: =SUM(D12:Y12)*C6*40% -> 3036621.4
B7: 기초작업 | F7: 2 | H7: 7 | X7: 6 | AD7: 통품5-3-6
B8: 조립 및 설치 | D8: 3.5 | F8: 7 | H8: 15 | X8: 4
B9: 조정 | D9: 5.5 | F9: 9.5 | H9: 5
B10: 시험. 측정 및 교정 | AD10: 품제외
B11: 소계 | D11: =SUM(D8:D10) -> 9 | F11: =SUM(F8:F10) -> 16.5 | H11: =SUM(H8:H10) -> 20 | X11: =SUM(X8:X10) -> 4
B12: 금액 | D12: =D11*D3 -> 1566351 | F12: =F11*F3 -> 2694202.5 | H12: =H11*H3 -> 2995100 | X12: =X11*X3 -> 335900
A13: 2 | B13: U Link, Coaxial SW. | C13: 1 | D13: =SUM(D17:Y17)*C13*40%*150% -> 695592 | AD13: 통품5-3-9
B14: 조립 및 설치 | F14: 2 | H14: 5 | X14: 1 | AD14: 이설-150%적용
B15: 시험 및 측정 | AD15: 품제외
B16: 소계 | F16: =SUM(F14:G15) -> 2 | H16: =SUM(H14:I15) -> 5 | X16: =SUM(X14:Y15) -> 1
B17: 금액 | F17: =F16*F3 -> 326570 | H17: =H16*H3 -> 748775 | X17: =X16*X3 -> 83975
A18: 3 | B18: 5Kw Dummy Load | C18: 1 | D18: =(F21+H21+X21+D21)*40%*150% -> 292247.4 | AD18: 통품5-2-11
B19: 설치 | D19: 1 | F19: 1 | H19: 1 | AD19: 이설-150%적용
B20: 소계 | D20: =SUM(D19) -> 1 | F20: =SUM(F19:G19) -> 1 | H20: =SUM(H19:I19) -> 1
B21: 금액 | D21: =D20*D3 -> 174039 | F21: =F20*F3 -> 163285 | H21: =H20*H3 -> 149755 | J21: =J20*J3 -> 0 | L21: =L20*L3 -> 0 | N21: =N20*N3 -> 0 | P21: =P20*P3 -> 0 | R21: =R20*R3 -> 0 | T21: =T20*T3 -> 0 | V21: =V20*V3 -> 0 | X21: =X20*X3 -> 0
A22: 4 | B22: Rigid Feeder | C22: 1 | D22: =(F25+H25+X25+D25)*40%/10 -> 25665.515 | AD22: 통품5-2-19-다
B23: 인양설치 | D23: 2.08 | L23: 4.17 | T23: 3.33 | X23: 3.33
B24: 소계 | D24: =SUM(D23) -> 2.08 | L24: =SUM(L23) -> 4.17 | T24: =SUM(T23) -> 3.33 | X24: =SUM(X23) -> 3.33 | AD24: 1M기준
B25: 금액 | D25: =D24*D3 -> 362001.12 | F25: =F24*F3 -> 0 | H25: =H24*H3 -> 0 | J25: =J24*J3 -> 0 | L25: =L24*L3 -> 769323.3 | N25: =N24*N3 -> 0 | P25: =P24*P3 -> 0 | R25: =R24*R3 -> 0 | T25: =T24*T3 -> 587858.22 | V25: =V24*V3 -> 0 | X25: =X24*X3 -> 279636.75
A26: 5 | B26: 전원선(CV 16㎟ * 4C) | C26: 1 | D26: =SUM(D29:Y29)*C26*40%/10*260% -> 4640.1472 | AD26: 통품6-18
B27: 설치 | P27: 0.2 | AD27: 4C-260%적용
B28: 소계 | P28: =SUM(P27) -> 0.2 | AD28: 1M기준
B29: 금액 | D29: =D28*D7 -> 0 | F29: =F28*F7 -> 0 | H29: =H28*H7 -> 0 | J29: =J28*J7 -> 0 | L29: =L28*L7 -> 0 | N29: =N28*N7 -> 0 | P29: =P28*P3 -> 44616.8 | R29: =R28*R7 -> 0 | T29: =T28*T7 -> 0 | V29: =V28*V7 -> 0 | X29: =X28*X7 -> 0
A30: 6 | B30: 전원선(CV 10㎟ * 4C) | C30: 1 | D30: =SUM(D33:Y33)*C30*40%/10 -> 4372.4464 | AD30: 통품3-1-26
B31: 설치 | P31: 0.49
B32: 소계 | P32: =SUM(P31) -> 0.49 | AD32: 1M기준
B33: 금액 | D33: =D32*D3 -> 0 | F33: =F32*F3 -> 0 | H33: =H32*H3 -> 0 | J33: =J32*J3 -> 0 | L33: =L32*L3 -> 0 | N33: =N32*N3 -> 0 | P33: =P32*P3 -> 109311.16 | R33: =R32*R3 -> 0 | T33: =T32*T3 -> 0 | V33: =V32*V3 -> 0 | X33: =X32*X3 -> 0
A34: 7 | B34: 전원선(CV 10㎟ * 3C) | C34: 1 | D34: =SUM(D37:Y37)*C34*40%/10 -> 3212.4096 | AD34: 통품3-1-26
B35: 설치 | P35: 0.36
B36: 소계 | P36: =SUM(P35) -> 0.36 | AD36: 1M기준
B37: 금액 | D37: =D36*D3 -> 0 | F37: =F36*F3 -> 0 | H37: =H36*H3 -> 0 | J37: =J36*J3 -> 0 | L37: =L36*L3 -> 0 | N37: =N36*N3 -> 0 | P37: =P36*P3 -> 80310.24 | R37: =R36*R3 -> 0 | T37: =T36*T3 -> 0 | V37: =V36*V3 -> 0 | X37: =X36*X3 -> 0
A38: 8 | B38: 전원선(CV 6㎟ * 3C) | C38: 1 | D38: =SUM(D41:Y41)*C38*40%/10 -> 2320.0736 | AD38: 통품3-1-26
B39: 설치 | P39: 0.26
B40: 소계 | P40: =SUM(P39) -> 0.26 | AD40: 1M기준
B41: 금액 | D41: =D40*D3 -> 0 | F41: =F40*F3 -> 0 | H41: =H40*H3 -> 0 | J41: =J40*J3 -> 0 | L41: =L40*L3 -> 0 | N41: =N40*N3 -> 0 | P41: =P40*P3 -> 58001.84 | R41: =R40*R3 -> 0 | T41: =T40*T3 -> 0 | V41: =V40*V3 -> 0 | X41: =X40*X3 -> 0
A42: 9 | B42: 접지선(GV 25㎟) | C42: 1 | D42: =SUM(D45:Y45)*C42*40%/10 -> 2230.84 | AD42: 통품6-18
B43: 설치 | P43: 0.25
B44: 소계 | P44: =SUM(P43) -> 0.25 | AD44: 1M기준
B45: 금액 | D45: =D44*D3 -> 0 | F45: =F44*F3 -> 0 | H45: =H44*H3 -> 0 | J45: =J44*J3 -> 0 | L45: =L44*L3 -> 0 | N45: =N44*N3 -> 0 | P45: =P44*P3 -> 55771 | R45: =R44*R3 -> 0 | T45: =T44*T3 -> 0 | V45: =V44*V3 -> 0 | X45: =X44*X3 -> 0
A46: 10 | B46: 트레이 | C46: 1 | D46: =SUM(D49:Y49)*C46*40%/10 -> 15751.608 | AD46: 통품3-3-8
B47: 설치 | J47: 2.85 | AD47: 300MM-철재기준
B48: 소계 | J48: =SUM(J47) -> 2.85 | AD48: 1M기준
B49: 금액 | D49: =D48*D7 -> 0 | F49: =F48*F7 -> 0 | H49: =H48*H7 -> 0 | J49: =J48*J3 -> 393790.2 | L49: =L48*L7 -> 0 | N49: =N48*N7 -> 0 | P49: =P48*P7 -> 0 | R49: =R48*R7 -> 0 | T49: =T48*T7 -> 0 | V49: =V48*V7 -> 0 | X49: =X48*X7 -> 0
A50: 11 | B50: FM Panal Antenna | C50: 1 | D50: =SUM(D55:Y55)*40% -> 2190628.5 | AD50: 통품5-3-5-라
B51: 포장헤체 및 점검 | D51: 3.7 | L51: 5 | R51: 7 | X51: 18 | AD51: 품제외
B52: 조립설치
B53: 특성측정 및 조정 | AD53: 품제외
B54: 소계 | D54: =SUM(D51:D53) -> 3.7 | L54: =SUM(L51:L53) -> 5 | R54: =SUM(R51:R53) -> 7 | X54: =SUM(X51:X53) -> 18
B55: 금액 | D55: =D54*D3 -> 643944.3 | F55: =F54*F3 -> 0 | H55: =H54*H3 -> 0 | J55: =J54*J3 -> 0 | L55: =L54*L3 -> 922450 | N55: =N54*N3 -> 0 | P55: =P54*P3 -> 0 | R55: =R54*R3 -> 2398627 | T55: =T54*T3 -> 0 | V55: =V54*V3 -> 0 | X55: =X54*X3 -> 1511550
A56: 12 | B56: 급전선(1-5/8" Foam케이블)설치 | C56: 1 | D56: =SUM(D62:Y62)*C56*40%/10*120%*0.9 -> 31005.071 | AD56: 통품5-2-19-다
B57: 포장헤체 및 점검 | AD57: 품제외
B58: 인양설치 | D58: 0.77 | L58: 1.54 | T58: 1.15 | X58: 1.15 | AD58: 120%적용
B59: 공기압시험 및 점검 | AD59: 품제외
B60: 최종특성측정 | AD60: 품제외
B61: 소계 | D61: =SUM(D57:E60) -> 0.77 | L61: =SUM(L57:M60) -> 1.54 | T61: =SUM(T57:U60) -> 1.15 | X61: =SUM(X57:Y60) -> 1.15 | AD61: 1M기준
B62: 금액 | D62: =D61*D3 -> 134010.03 | F62: =F61*F3 -> 0 | H62: =H61*H3 -> 0 | J62: =J61*J3 -> 0 | L62: =L61*L3 -> 284114.6 | N62: =N61*N3 -> 0 | P62: =P61*P3 -> 0 | R62: =R61*R3 -> 0 | T62: =T61*T3 -> 203014.1 | V62: =V61*V3 -> 0 | X62: =X61*X3 -> 96571.25
A63: 13 | B63: 급전선(1-5/8" Foam케이블)철거 | C63: 1 | D63: =SUM(D69:Y69)*C63*40%/10*120%*30% -> 10335.024 | AD63: 통품5-2-19-다
B64: 포장헤체 및 점검 | AD64: 품제외
B65: 인양설치 | D65: 0.77 | L65: 1.54 | T65: 1.15 | X65: 1.15 | AD65: 120%적용
B66: 공기압시험 및 점검 | AD66: 설치30%적용
B67: 최종특성측정 | AD67: 품제외
B68: 소계 | D68: =SUM(D64:E67) -> 0.77 | L68: =SUM(L64:M67) -> 1.54 | T68: =SUM(T64:U67) -> 1.15 | X68: =SUM(X64:Y67) -> 1.15 | AD68: 1M기준
B69: 금액 | D69: =D68*D3 -> 134010.03 | F69: =F68*F3 -> 0 | H69: =H68*H3 -> 0 | J69: =J68*J3 -> 0 | L69: =L68*L3 -> 284114.6 | N69: =N68*N3 -> 0 | P69: =P68*P3 -> 0 | R69: =R68*R3 -> 0 | T69: =T68*T3 -> 203014.1 | V69: =V68*V3 -> 0 | X69: =X68*X3 -> 96571.25
A70: 14 | B70: 19"Rack | C70: 1 | D70: =SUM(D73:Y73)*C70*40% -> 126242.2 | AD70: 통품5-3-3-다
B71: 설치 | F71: 0.3 | H71: 1.5 | X71: 0.5
B72: 소계 | F72: =SUM(F71) -> 0.3 | H72: =SUM(H71) -> 1.5 | X72: =SUM(X71) -> 0.5
B73: 금액 | D73: =D72*D3 -> 0 | F73: =F72*F3 -> 48985.5 | H73: =H72*H3 -> 224632.5 | J73: =J72*J3 -> 0 | L73: =L72*L3 -> 0 | N73: =N72*N3 -> 0 | P73: =P72*P3 -> 0 | R73: =R72*R3 -> 0 | T73: =T72*T3 -> 0 | V73: =V72*V3 -> 0 | X73: =X72*X3 -> 41987.5
A74: 15 | B74: UPS 및 밧테리 | C74: 1 | D74: =SUM(D77:Y77)*C74*180% -> 1229391 | AD74: 통품6-21
B75: 설치 | H75: 4 | X75: 1
B76: 소계 | H76: =SUM(H75:I75) -> 4 | X76: =SUM(X75:Y75) -> 1
B77: 금액 | H77: =H76*H3 -> 599020 | J77: =J76*J3 -> 0 | L77: =L76*L3 -> 0 | N77: =N76*N3 -> 0 | P77: =P76*P3 -> 0 | R77: =R76*R3 -> 0 | T77: =T76*T3 -> 0 | V77: =V76*V3 -> 0 | X77: =X76*X3 -> 83975
A78: 16 | B78: Audio Codec | C78: 1 | D78: =SUM(D84:AC84)*C78*40% -> 122688.56 | AD78: 통품5-3-3-나
B79: 설치 | D79: 0.2 | AB79: 1.4
B80: 점검 | AD80: 품제외
B81: 조정 | AD81: 품제외
B82: 시험 및 측정 | AD82: 품제외
B83: 소계 | D83: =SUM(D79:E82) -> 0.2 | AB83: =SUM(AB79:AC82) -> 1.4
B84: 금액 | D84: =D83*D3 -> 34807.8 | F84: =F83*F3 -> 0 | H84: =H83*H3 -> 0 | J84: =J83*J3 -> 0 | L84: =L83*L3 -> 0 | N84: =N83*N3 -> 0 | P84: =P83*P3 -> 0 | R84: =R83*R3 -> 0 | T84: =T83*T3 -> 0 | V84: =V83*V3 -> 0 | X84: =X83*X3 -> 0 | AB84: =AB83*AB3 -> 271913.6
A85: 17 | B85: Modular System | C85: 1 | D85: =SUM(D91:Y91)*C85*40% -> 43741.6 | AD85: 통품5-3-3-나
B86: 설치 | F86: 0.2 | H86: 0.4 | X86: 0.2
B87: 점검 | AD87: 품제외
B88: 조정 | AD88: 품제외
B89: 시험 및 측정 | AD89: 품제외
B90: 소계 | F90: =SUM(F86:G89) -> 0.2 | H90: =SUM(H86:I89) -> 0.4 | X90: =SUM(X86:Y89) -> 0.2
B91: 금액 | F91: =F90*F3 -> 32657 | H91: =H90*H3 -> 59902 | J91: =J90*J3 -> 0 | L91: =L90*L3 -> 0 | N91: =N90*N3 -> 0 | P91: =P90*P3 -> 0 | R91: =R90*R3 -> 0 | T91: =T90*T3 -> 0 | V91: =V90*V3 -> 0 | X91: =X90*X3 -> 16795
A92: 18 | B92: Audio Patch Panel | C92: 1 | D92: =SUM(D95:Y95)*C92*40% -> 47641.8 | AD92: 통품5-3-3-다
B93: 설치 | F93: 0.3 | H93: 0.3 | X93: 0.3
B94: 소계 | F94: =SUM(F93:G93) -> 0.3 | H94: =SUM(H93:I93) -> 0.3 | X94: =SUM(X93:Y93) -> 0.3
B95: 금액 | F95: =F94*F3 -> 48985.5 | H95: =H94*H3 -> 44926.5 | J95: =J94*J3 -> 0 | L95: =L94*L3 -> 0 | N95: =N94*N3 -> 0 | P95: =P94*P3 -> 0 | R95: =R94*R3 -> 0 | T95: =T94*T3 -> 0 | V95: =V94*V3 -> 0 | X95: =X94*X3 -> 25192.5
A96: 19 | B96: FM Tunner | C96: 1 | D96: =SUM(D100:Y100)*C96*40% -> 28799.68 | AD96: 통품5-3-3-라
B97: 설치 | F97: 0.23 | H97: 0.23
B98: 시험 및 점검 | AD98: 품제외
B99: 소계 | F99: =SUM(F97:G98) -> 0.23 | H99: =SUM(H97:I98) -> 0.23
B100: 금액 | D100: =D99*D3 -> 0 | F100: =F99*F3 -> 37555.55 | H100: =H99*H3 -> 34443.65 | J100: =J99*J3 -> 0 | L100: =L99*L3 -> 0 | N100: =N99*N3 -> 0 | P100: =P99*P3 -> 0 | R100: =R99*R3 -> 0 | T100: =T99*T3 -> 0 | V100: =V99*V3 -> 0 | X100: =X99*X3 -> 0
...

Sheet 3.건축_산출근거목록표
A1: No | B1: 품 명 DESCRIPTION | C1: 규 격 SPECIFICATION | D1: 단위UNIT | E1: 수량 Q'TY | F1: 자재비 MATERIALS COSTS | H1: 인건비 LABOR COSTS | J1: 합계 TOTAL COSTS | L1: 비고 NOTE
F2: 단가 UNIT PRICE | G2: 금액 AMOUNT | H2: 단가 UNIT PRICE | I2: 금액 AMOUNT | J2: 단가 UNIT PRICE | K2: 금액 AMOUNT
A4: TE-1 | B4: =VLOOKUP($A4,'4.건축_산출근거표'!$A$4:$L$711,2,FALSE) -> 현장정리 | C4: =VLOOKUP($A4,'4.건축_산출근거표'!$A$4:$L$711,3,FALSE) -> 콘크리트 외 | D4: =VLOOKUP($A4,'4.건축_산출근거표'!$A$4:$L$711,4,FALSE) -> M2 | E4: =VLOOKUP($A4,'4.건축_산출근거표'!$A$4:$L$711,5,FALSE) -> 1 | G4: =VLOOKUP($A4,'4.건축_산출근거표'!$A$4:$L$711,7,FALSE) -> 0 | I4: =VLOOKUP($A4,'4.건축_산출근거표'!$A$4:$L$711,9,FALSE) -> 12582.943 | K4: =VLOOKUP($A4,'4.건축_산출근거표'!$A$4:$L$711,11,FALSE) -> 12582.943
A5: TE-2 | B5: =VLOOKUP($A5,'4.건축_산출근거표'!$A$4:$L$711,2,FALSE) -> 현장보양 | C5: =VLOOKUP($A5,'4.건축_산출근거표'!$A$4:$L$711,3,FALSE) -> 바닥 보양 | D5: =VLOOKUP($A5,'4.건축_산출근거표'!$A$4:$L$711,4,FALSE) -> M2 | E5: =VLOOKUP($A5,'4.건축_산출근거표'!$A$4:$L$711,5,FALSE) -> 1 | G5: =VLOOKUP($A5,'4.건축_산출근거표'!$A$4:$L$711,7,FALSE) -> 0 | I5: =VLOOKUP($A5,'4.건축_산출근거표'!$A$4:$L$711,9,FALSE) -> 3521.4258 | K5: =VLOOKUP($A5,'4.건축_산출근거표'!$A$4:$L$711,11,FALSE) -> 3521.4258
A6: TE-3 | B6: =VLOOKUP($A6,'4.건축_산출근거표'!$A$4:$L$711,2,FALSE) -> 이동식 비계 설치 | C6: =VLOOKUP($A6,'4.건축_산출근거표'!$A$4:$L$711,3,FALSE) -> 0 | D6: =VLOOKUP($A6,'4.건축_산출근거표'!$A$4:$L$711,4,FALSE) -> 대 | E6: =VLOOKUP($A6,'4.건축_산출근거표'!$A$4:$L$711,5,FALSE) -> 1 | G6: =VLOOKUP($A6,'4.건축_산출근거표'!$A$4:$L$711,7,FALSE) -> 282870 | I6: =VLOOKUP($A6,'4.건축_산출근거표'!$A$4:$L$711,9,FALSE) -> 4402.5877 | K6: =VLOOKUP($A6,'4.건축_산출근거표'!$A$4:$L$711,11,FALSE) -> 287272.59
A7: DE-1 | B7: =VLOOKUP($A7,'4.건축_산출근거표'!$A$4:$L$711,2,FALSE) -> 양면벽체 철거 | C7: =VLOOKUP($A7,'4.건축_산출근거표'!$A$4:$L$711,3,FALSE) -> 0 | D7: =VLOOKUP($A7,'4.건축_산출근거표'!$A$4:$L$711,4,FALSE) -> M2 | E7: =VLOOKUP($A7,'4.건축_산출근거표'!$A$4:$L$711,5,FALSE) -> 1 | G7: =VLOOKUP($A7,'4.건축_산출근거표'!$A$4:$L$711,7,FALSE) -> 0 | I7: =VLOOKUP($A7,'4.건축_산출근거표'!$A$4:$L$711,9,FALSE) -> 20965.578 | K7: =VLOOKUP($A7,'4.건축_산출근거표'!$A$4:$L$711,11,FALSE) -> 20965.578
A8: DE-2 | B8: =VLOOKUP($A8,'4.건축_산출근거표'!$A$4:$L$711,2,FALSE) -> 단면벽체 철거 | C8: =VLOOKUP($A8,'4.건축_산출근거표'!$A$4:$L$711,3,FALSE) -> 0 | D8: =VLOOKUP($A8,'4.건축_산출근거표'!$A$4:$L$711,4,FALSE) -> M2 | E8: =VLOOKUP($A8,'4.건축_산출근거표'!$A$4:$L$711,5,FALSE) -> 1 | G8: =VLOOKUP($A8,'4.건축_산출근거표'!$A$4:$L$711,7,FALSE) -> 0 | I8: =VLOOKUP($A8,'4.건축_산출근거표'!$A$4:$L$711,9,FALSE) -> 15262.509 | K8: =VLOOKUP($A8,'4.건축_산출근거표'!$A$4:$L$711,11,FALSE) -> 15262.509
A9: DE-3 | B9: =VLOOKUP($A9,'4.건축_산출근거표'!$A$4:$L$711,2,FALSE) -> 기존 문 철거 | C9: =VLOOKUP($A9,'4.건축_산출근거표'!$A$4:$L$711,3,FALSE) -> 0 | D9: =VLOOKUP($A9,'4.건축_산출근거표'!$A$4:$L$711,4,FALSE) -> SET | E9: =VLOOKUP($A9,'4.건축_산출근거표'!$A$4:$L$711,5,FALSE) -> 1 | G9: =VLOOKUP($A9,'4.건축_산출근거표'!$A$4:$L$711,7,FALSE) -> 0 | I9: =VLOOKUP($A9,'4.건축_산출근거표'!$A$4:$L$711,9,FALSE) -> 58690.43 | K9: =VLOOKUP($A9,'4.건축_산출근거표'!$A$4:$L$711,11,FALSE) -> 58690.43
A10: DE-4 | B10: =VLOOKUP($A10,'4.건축_산출근거표'!$A$4:$L$711,2,FALSE) -> 천장 철거 | C10: =VLOOKUP($A10,'4.건축_산출근거표'!$A$4:$L$711,3,FALSE) -> 0 | D10: =VLOOKUP($A10,'4.건축_산출근거표'!$A$4:$L$711,4,FALSE) -> M2 | E10: =VLOOKUP($A10,'4.건축_산출근거표'!$A$4:$L$711,5,FALSE) -> 1 | G10: =VLOOKUP($A10,'4.건축_산출근거표'!$A$4:$L$711,7,FALSE) -> 0 | I10: =VLOOKUP($A10,'4.건축_산출근거표'!$A$4:$L$711,9,FALSE) -> 12243.502 | K10: =VLOOKUP($A10,'4.건축_산출근거표'!$A$4:$L$711,11,FALSE) -> 12243.502
A11: DE-5 | B11: =VLOOKUP($A11,'4.건축_산출근거표'!$A$4:$L$711,2,FALSE) -> 문자리 컷팅 | C11: =VLOOKUP($A11,'4.건축_산출근거표'!$A$4:$L$711,3,FALSE) -> 0 | D11: =VLOOKUP($A11,'4.건축_산출근거표'!$A$4:$L$711,4,FALSE) -> 식 | E11: =VLOOKUP($A11,'4.건축_산출근거표'!$A$4:$L$711,5,FALSE) -> 1 | G11: =VLOOKUP($A11,'4.건축_산출근거표'!$A$4:$L$711,7,FALSE) -> 0 | I11: =VLOOKUP($A11,'4.건축_산출근거표'!$A$4:$L$711,9,FALSE) -> 208877.02 | K11: =VLOOKUP($A11,'4.건축_산출근거표'!$A$4:$L$711,11,FALSE) -> 208877.02
A12: AA-1 | B12: =VLOOKUP($A12,'4.건축_산출근거표'!$A$4:$L$711,2,FALSE) -> 건식칸막이(방음벽체) | C12: =VLOOKUP($A12,'4.건축_산출근거표'!$A$4:$L$711,3,FALSE) -> 양면벽체 | D12: =VLOOKUP($A12,'4.건축_산출근거표'!$A$4:$L$711,4,FALSE) -> M2 | E12: =VLOOKUP($A12,'4.건축_산출근거표'!$A$4:$L$711,5,FALSE) -> 1 | G12: =VLOOKUP($A12,'4.건축_산출근거표'!$A$4:$L$711,7,FALSE) -> 23266.056 | I12: =VLOOKUP($A12,'4.건축_산출근거표'!$A$4:$L$711,9,FALSE) -> 58690.43 | K12: =VLOOKUP($A12,'4.건축_산출근거표'!$A$4:$L$711,11,FALSE) -> 81956.486
A13: AA-2 | B13: =VLOOKUP($A13,'4.건축_산출근거표'!$A$4:$L$711,2,FALSE) -> 건식칸막이(방음벽체) | C13: =VLOOKUP($A13,'4.건축_산출근거표'!$A$4:$L$711,3,FALSE) -> 단면벽체 | D13: =VLOOKUP($A13,'4.건축_산출근거표'!$A$4:$L$711,4,FALSE) -> M2 | E13: =VLOOKUP($A13,'4.건축_산출근거표'!$A$4:$L$711,5,FALSE) -> 1 | G13: =VLOOKUP($A13,'4.건축_산출근거표'!$A$4:$L$711,7,FALSE) -> 17658.278 | I13: =VLOOKUP($A13,'4.건축_산출근거표'!$A$4:$L$711,9,FALSE) -> 58690.43 | K13: =VLOOKUP($A13,'4.건축_산출근거표'!$A$4:$L$711,11,FALSE) -> 76348.708
A14: AA-3 | B14: =VLOOKUP($A14,'4.건축_산출근거표'!$A$4:$L$711,2,FALSE) -> 건식칸막이(일반벽체) | C14: =VLOOKUP($A14,'4.건축_산출근거표'!$A$4:$L$711,3,FALSE) -> 단면벽체 | D14: =VLOOKUP($A14,'4.건축_산출근거표'!$A$4:$L$711,4,FALSE) -> M2 | E14: =VLOOKUP($A14,'4.건축_산출근거표'!$A$4:$L$711,5,FALSE) -> 1 | G14: =VLOOKUP($A14,'4.건축_산출근거표'!$A$4:$L$711,7,FALSE) -> 17658.278 | I14: =VLOOKUP($A14,'4.건축_산출근거표'!$A$4:$L$711,9,FALSE) -> 39909.492 | K14: =VLOOKUP($A14,'4.건축_산출근거표'!$A$4:$L$711,11,FALSE) -> 57567.77
A15: AA-4 | B15: =VLOOKUP($A15,'4.건축_산출근거표'!$A$4:$L$711,2,FALSE) -> 방진바닥 | C15: =VLOOKUP($A15,'4.건축_산출근거표'!$A$4:$L$711,3,FALSE) -> 건식 FLOATING FLOOR | D15: =VLOOKUP($A15,'4.건축_산출근거표'!$A$4:$L$711,4,FALSE) -> M2 | E15: =VLOOKUP($A15,'4.건축_산출근거표'!$A$4:$L$711,5,FALSE) -> 1 | G15: =VLOOKUP($A15,'4.건축_산출근거표'!$A$4:$L$711,7,FALSE) -> 74339.886 | I15: =VLOOKUP($A15,'4.건축_산출근거표'!$A$4:$L$711,9,FALSE) -> 49638.204 | K15: =VLOOKUP($A15,'4.건축_산출근거표'!$A$4:$L$711,11,FALSE) -> 123978.09
... A99: F-18 | B99: =VLOOKUP($A99,'4.건축_산출근거표'!$A$4:$L$711,2,FALSE) -> OUTLET BOX | C99: =VLOOKUP($A99,'4.건축_산출근거표'!$A$4:$L$711,3,FALSE) -> 54mm , Octagon | D99: =VLOOKUP($A99,'4.건축_산출근거표'!$A$4:$L$711,4,FALSE) -> EA | E99: =VLOOKUP($A99,'4.건축_산출근거표'!$A$4:$L$711,5,FALSE) -> 1 | G99: =VLOOKUP($A99,'4.건축_산출근거표'!$A$4:$L$711,7,FALSE) -> 3049.2 | I99: =VLOOKUP($A99,'4.건축_산출근거표'!$A$4:$L$711,9,FALSE) -> 27831.836 | K99: =VLOOKUP($A99,'4.건축_산출근거표'!$A$4:$L$711,11,FALSE) -> 30881.036

Sheet 4.건축_산출근거표
A1: No | B1: 품 명 DESCRIPTION | C1: 규 격 SPECIFICATION | D1: 단위UNIT | E1: 수량 Q'TY | F1: 자재비 MATERIALS COSTS | H1: 인건비 LABOR COSTS | J1: 합계 TOTAL COSTS | L1: 비고 NOTE
F2: 단가 UNIT PRICE | G2: 금액 AMOUNT | H2: 단가 UNIT PRICE | I2: 금액 AMOUNT | J2: 단가 UNIT PRICE | K2: 금액 AMOUNT
A4: TE-1 | B4: 현장정리 | C4: 콘크리트 외 | D4: M2 | E4: 1 | G4: =SUM(G5:G6) -> 0 | I4: =SUM(I5:I6) -> 12582.943 | K4: =I4+G4 -> 12582.943
A5: L2 | B5: 현장정리 | C5: =VLOOKUP($A5,'5.전축_자재단가표'!$A$4:$P$156,2,FALSE) -> 보통인부 | D5: 인 | E5: 0.15 | H5: =VLOOKUP($A5,'5.전축_자재단가표'!$A$4:$P$156,6,FALSE) -> 81443 | I5: =H5*E5 -> 12216.45 | L5: 건축 2-10
B6: 공구손료 | D6: % | E6: 3 | I6: =SUM(I5)*E6% -> 366.4935
A8: TE-2 | B8: 현장보양 | C8: 바닥 보양 | D8: M2 | E8: 1 | G8: =SUM(G9:G10) -> 0 | I8: =SUM(I9:I10) -> 3521.4258 | K8: =I8+G8 -> 3521.4258
A9: L10 | B9: 목재보양 | C9: =VLOOKUP($A9,'5.전축_자재단가표'!$A$4:$P$156,2,FALSE) -> 건축목공 | D9: 인 | E9: 0.03 | H9: =VLOOKUP($A9,'5.전축_자재단가표'!$A$4:$P$156,6,FALSE) -> 113962 | I9: =H9*E9 -> 3418.86 | L9: 건축 2-9
B10: 공구손료 | D10: % | E10: 3 | I10: =SUM(I9)*E10% -> 102.5658
A12: TE-3 | B12: 이동식 비계 설치 | D12: 대 | E12: 1 | G12: =SUM(G13:G19) -> 282870 | I12: =SUM(I13:I19) -> 4402.5877 | K12: =I12+G12 -> 287272.59
A13: A37 | B13: =VLOOKUP($A13,'5.전축_자재단가표'!$A$4:$P$156,2,FALSE) -> 비계 기본틀 | C13: =VLOOKUP($A13,'5.전축_자재단가표'!$A$4:$P$156,3,FALSE) -> 1219 X 1700 | D13: =VLOOKUP($A13,'5.전축_자재단가표'!$A$4:$P$156,4,FALSE) -> EA | E13: 2 | F13: =VLOOKUP($A13,'5.전축_자재단가표'!$A$4:$P$156,6,FALSE) -> 28300 | G13: =F13*E13 -> 56600
A14: A38 | B14: =VLOOKUP($A14,'5.전축_자재단가표'!$A$4:$P$156,2,FALSE) -> 가세 | C14: =VLOOKUP($A14,'5.전축_자재단가표'!$A$4:$P$156,3,FALSE) -> L1518 | D14: =VLOOKUP($A14,'5.전축_자재단가표'!$A$4:$P$156,4,FALSE) -> EA | E14: 2 | F14: =VLOOKUP($A14,'5.전축_자재단가표'!$A$4:$P$156,6,FALSE) -> 8900 | G14: =F14*E14 -> 17800
A15: A39 | B15: =VLOOKUP($A15,'5.전축_자재단가표'!$A$4:$P$156,2,FALSE) -> 바퀴 | C15: =VLOOKUP($A15,'5.전축_자재단가표'!$A$4:$P$156,3,FALSE) -> 0 | D15: =VLOOKUP($A15,'5.전축_자재단가표'!$A$4:$P$156,4,FALSE) -> EA | E15: 4 | F15: =VLOOKUP($A15,'5.전축_자재단가표'!$A$4:$P$156,6,FALSE) -> 4650 | G15: =F15*E15 -> 18600
A16: A40 | B16: =VLOOKUP($A16,'5.전축_자재단가표'!$A$4:$P$156,2,FALSE) -> 발판 | C16: =VLOOKUP($A16,'5.전축_자재단가표'!$A$4:$P$156,3,FALSE) -> 0 | D16: =VLOOKUP($A16,'5.전축_자재단가표'!$A$4:$P$156,4,FALSE) -> 매 | E16: 7 | F16: =VLOOKUP($A16,'5.전축_자재단가표'!$A$4:$P$156,6,FALSE) -> 25200 | G16: =F16*E16 -> 176400
B17: 잡자재 | D17: % | E17: 5 | G17: =SUM(G13:G16)*E17% -> 13470
A18: L4 | B18: 이동식 비계 (조립,해체) | C18: =VLOOKUP($A18,'5.전축_자재단가표'!$A$4:$P$156,2,FALSE) -> 비계공 | D18: 인 | E18: 0.0302 | H18: =VLOOKUP($A18,'5.전축_자재단가표'!$A$4:$P$156,6,FALSE) -> 141535 | I18: =H18*E18 -> 4274.357 | L18: 건축 2-6-2
B19: 공구손료 | D19: % | E19: 3 | I19: =SUM(I18)*E19% -> 128.23071
A21: DE-1 | B21: 양면벽체 철거 | D21: M2 | E21: 1 | G21: =SUM(G22:G26) -> 0 | I21: =SUM(I22:I26) -> 20965.578 | K21: =I21+G21 -> 20965.578
A22: L10 | B22: 칸막이 철거 | C22: =VLOOKUP($A22,'5.전축_자재단가표'!$A$4:$P$156,2,FALSE) -> 건축목공 | D22: 인 | E22: 0.06 | H22: =VLOOKUP($A22,'5.전축_자재단가표'!$A$4:$P$156,6,FALSE) -> 113962 | I22: =H22*E22 -> 6837.72 | L22: 건축 20-1-2
A23: L2 | B23: 칸막이 철거 | C23: =VLOOKUP($A23,'5.전축_자재단가표'!$A$4:$P$156,2,FALSE) -> 보통인부 | D23: 인 | E23: 0.03 | H23: =VLOOKUP($A23,'5.전축_자재단가표'!$A$4:$P$156,6,FALSE) -> 81443 | I23: =H23*E23 -> 2443.29 | L23: 건축 20-1-2
A24: L10 | B24: 판재철거 | C24: =VLOOKUP($A24,'5.전축_자재단가표'!$A$4:$P$156,2,FALSE) -> 건축목공 | D24: 인 | E24: =0.01*4 -> 0.04 | H24: =VLOOKUP($A24,'5.전축_자재단가표'!$A$4:$P$156,6,FALSE) -> 113962 | I24: =H24*E24 -> 4558.48 | L24: 건축 20-1-2
A25: L2 | B25: 판재철거 | C25: =VLOOKUP($A25,'5.전축_자재단가표'!$A$4:$P$156,2,FALSE) -> 보통인부 | D25: 인 | E25: =0.02*4 -> 0.08 | H25: =VLOOKUP($A25,'5.전축_자재단가표'!$A$4:$P$156,6,FALSE) -> 81443 | I25: =H25*E25 -> 6515.44 | L25: 건축 20-1-2
B26: 공구손료 | D26: % | E26: 3 | I26: =SUM(I22:I25)*E26% -> 610.6479
A28: DE-2 | B28: 단면벽체 철거 | D28: M2 | E28: 1 | G28: =SUM(G29:G33) -> 0 | I28: =SUM(I29:I33) -> 15262.509 | K28: =I28+G28 -> 15262.509
A29: L10 | B29: 칸막이 철거 | C29: =VLOOKUP($A29,'5.전축_자재단가표'!$A$4:$P$156,2,FALSE) -> 건축목공 | D29: 인 | E29: 0.06 | H29: =VLOOKUP($A29,'5.전축_자재단가표'!$A$4:$P$156,6,FALSE) -> 113962 | I29: =H29*E29 -> 6837.72 | L29: 건축 20-1-2
A30: L2 | B30: 칸막이 철거 | C30: =VLOOKUP($A30,'5.전축_자재단가표'!$A$4:$P$156,2,FALSE) -> 보통인부 | D30: 인 | E30: 0.03 | H30: =VLOOKUP($A30,'5.전축_자재단가표'!$A$4:$P$156,6,FALSE) -> 81443 | I30: =H30*E30 -> 2443.29 | L30: 건축 20-1-2
A31: L10 | B31: 판재철거 | C31: =VLOOKUP($A31,'5.전축_자재단가표'!$A$4:$P$156,2,FALSE) -> 건축목공 | D31: 인 | E31: =0.01*2 -> 0.02 | H31: =VLOOKUP($A31,'5.전축_자재단가표'!$A$4:$P$156,6,FALSE) -> 113962 | I31: =H31*E31 -> 2279.24 | L31: 건축 20-1-2
A32: L2 | B32: 판재철거 | C32: =VLOOKUP($A32,'5.전축_자재단가표'!$A$4:$P$156,2,FALSE) -> 보통인부 | D32: 인 | E32: =0.02*2 -> 0.04 | H32: =VLOOKUP($A32,'5.전축_자재단가표'!$A$4:$P$156,6,FALSE) -> 81443 | I32: =H32*E32 -> 3257.72 | L32: 건축 20-1-2
B33: 공구손료 | D33: % | E33: 3 | I33: =SUM(I29:I32)*E33% -> 444.5391
A35: DE-3 | B35: 기존 문 철거 | D35: SET | E35: 1 | G35: =SUM(G36:G37) -> 0 | I35: =SUM(I36:I37) -> 58690.43 | K35: =I35+G35 -> 58690.43
A36: L10 | B36: 기존 문 철거 | C36: =VLOOKUP($A36,'5.전축_자재단가표'!$A$4:$P$156,2,FALSE) -> 건축목공 | D36: 인 | E36: 0.5 | H36: =VLOOKUP($A36,'5.전축_자재단가표'!$A$4:$P$156,6,FALSE) -> 113962 | I36: =H36*E36 -> 56981 | L36: -
B37: 공구손료 | D37: % | E37: 3 | I37: =SUM(I36:I36)*E37% -> 1709.43
A39: DE-4 | B39: 천장 철거 | D39: M2 | E39: 1 | G39: =SUM(G40:G44) -> 0 | I39: =SUM(I40:I44) -> 12243.502 | K39: =I39+G39 -> 12243.502
A40: L10 | B40: 골조 철거 | C40: =VLOOKUP($A40,'5.전축_자재단가표'!$A$4:$P$156,2,FALSE) -> 건축목공 | D40: 인 | E40: 0.05 | H40: =VLOOKUP($A40,'5.전축_자재단가표'!$A$4:$P$156,6,FALSE) -> 113962 | I40: =H40*E40 -> 5698.1 | L40: 건축 20-1-2
A41: L2 | B41: 골조 철거 | C41: =VLOOKUP($A41,'5.전축_자재단가표'!$A$4:$P$156,2,FALSE) -> 보통인부 | D41: 인 | E41: 0.025 | H41: =VLOOKUP($A41,'5.전축_자재단가표'!$A$4:$P$156,6,FALSE) -> 81443 | I41: =H41*E41 -> 2036.075 | L41: 건축 20-1-2
A42: L10 | B42: 텍스 철거 | C42: =VLOOKUP($A42,'5.전축_자재단가표'!$A$4:$P$156,2,FALSE) -> 건축목공 | D42: 인 | E42: 0.015 | H42: =VLOOKUP($A42,'5.전축_자재단가표'!$A$4:$P$156,6,FALSE) -> 113962 | I42: =H42*E42 -> 1709.43 | L42: 건축 20-1-2
A43: L2 | B43: 텍스 철거 | C43: =VLOOKUP($A43,'5.전축_자재단가표'!$A$4:$P$156,2,FALSE) -> 보통인부 | D43: 인 | E43: 0.03 | H43: =VLOOKUP($A43,'5.전축_자재단가표'!$A$4:$P$156,6,FALSE) -> 81443 | I43: =H43*E43 -> 2443.29 | L43: 건축 20-1-2
B44: 공구손료 | D44: % | E44: 3 | I44: =SUM(I40:I43)*E44% -> 356.60685
A46: DE-5 | B46: 문자리 컷팅 | D46: 식 | E46: 1 | G46: =SUM(G47:G48) -> 0 | I46: =SUM(I47:I48) -> 208877.02 | K46: =I46+G46 -> 208877.02
A47: L9 | B47: 문자리 컷팅 | C47: =VLOOKUP($A47,'5.전축_자재단가표'!$A$4:$P$156,2,FALSE) -> 할석공 | D47: 인 | E47: =5*(0.9*2.1*0.2) -> 1.89 | H47: =VLOOKUP($A47,'5.전축_자재단가표'!$A$4:$P$156,6,FALSE) -> 107298 | I47: =H47*E47 -> 202793.22 | L47: 건축 20-1-3
B48: 공구손료 | D48: % | E48: 3 | I48: =SUM(I47:I47)*E48% -> 6083.7966
A50: AA-1 | B50: 건식칸막이(방음벽체) | C50: 양면벽체 | D50: M2 | E50: 1 | G50: =SUM(G51:G56) -> 23266.056 | I50: =SUM(I51:I56) -> 58690.43 | K50: =I50+G50 -> 81956.486
A51: A2 | B51: =VLOOKUP($A51,'5.전축_자재단가표'!$A$4:$P$156,2,FALSE) -> 각재 | C51: =VLOOKUP($A51,'5.전축_자재단가표'!$A$4:$P$156,3,FALSE) -> 69 X 30 X 3600 | D51: =VLOOKUP($A51,'5.전축_자재단가표'!$A$4:$P$156,4,FALSE) -> 재 | E51: =((1/0.45)+(1/0.9))/3.6*2.3*1.1 -> 2.3425926 | F51: =VLOOKUP($A51,'5.전축_자재단가표'!$A$4:$P$156,6,FALSE) -> 1800 | G51: =F51*E51 -> 4216.6667
A52: A3 | B52: =VLOOKUP($A52,'5.전축_자재단가표'!$A$4:$P$156,2,FALSE) -> POLYESTER | C52: =VLOOKUP($A52,'5.전축_자재단가표'!$A$4:$P$156,3,FALSE) -> 24K 50T | D52: =VLOOKUP($A52,'5.전축_자재단가표'!$A$4:$P$156,4,FALSE) -> M2 | E52: =1*1.1 -> 1.1 | F52: =VLOOKUP($A52,'5.전축_자재단가표'!$A$4:$P$156,6,FALSE) -> 6600 | G52: =F52*E52 -> 7260
A53: A5 | B53: =VLOOKUP($A53,'5.전축_자재단가표'!$A$4:$P$156,2,FALSE) -> 석고보드 | C53: =VLOOKUP($A53,'5.전축_자재단가표'!$A$4:$P$156,3,FALSE) -> 3 X 6 X 12.5T | D53: =VLOOKUP($A53,'5.전축_자재단가표'!$A$4:$P$156,4,FALSE) -> M2 | E53: =4*1.03 -> 4.12 | F53: =VLOOKUP($A53,'5.전축_자재단가표'!$A$4:$P$156,6,FALSE) -> 2592.5926 | G53: =F53*E53 -> 10681.481
B54: 잡자재 | D54: % | E54: 5 | G54: =SUM(G51:G53)*E54% -> 1107.9074
A55: L10 | B55: 방음칸막이 설치 | C55: =VLOOKUP($A55,'5.전축_자재단가표'!$A$4:$P$156,2,FALSE) -> 건축목공 | D55: 인 | E55: 0.5 | H55: =VLOOKUP($A55,'5.전축_자재단가표'!$A$4:$P$156,6,FALSE) -> 113962 | I55: =H55*E55 -> 56981 | L55: 건축 11-6-2
B56: 공구손료 | D56: % | E56: 3 | I56: =SUM(I55:I55)*E56% -> 1709.43
A58: AA-2 | B58: 건식칸막이(방음벽체) | C58: 단면벽체 | D58: M2 | E58: 1 | G58: =SUM(G59:G64) -> 17658.278 | I58: =SUM(I59:I64) -> 58690.43 | K58: =I58+G58 -> 76348.708
A59: A2 | B59: =VLOOKUP($A59,'5.전축_자재단가표'!$A$4:$P$156,2,FALSE) -> 각재 | C59: =VLOOKUP($A59,'5.전축_자재단가표'!$A$4:$P$156,3,FALSE) -> 69 X 30 X 3600 | D59: =VLOOKUP($A59,'5.전축_자재단가표'!$A$4:$P$156,4,FALSE) -> 재 | E59: =((1/0.45)+(1/0.9))/3.6*2.3*1.1 -> 2.3425926 | F59: =VLOOKUP($A59,'5.전축_자재단가표'!$A$4:$P$156,6,FALSE) -> 1800 | G59: =F59*E59 -> 4216.6667
A60: A3 | B60: =VLOOKUP($A60,'5.전축_자재단가표'!$A$4:$P$156,2,FALSE) -> POLYESTER | C60: =VLOOKUP($A60,'5.전축_자재단가표'!$A$4:$P$156,3,FALSE) -> 24K 50T | D60: =VLOOKUP($A60,'5.전축_자재단가표'!$A$4:$P$156,4,FALSE) -> M2 | E60: =1*1.1 -> 1.1 | F60: =VLOOKUP($A60,'5.전축_자재단가표'!$A$4:$P$156,6,FALSE) -> 6600 | G60: =F60*E60 -> 7260
A61: A5 | B61: =VLOOKUP($A61,'5.전축_자재단가표'!$A$4:$P$156,2,FALSE) -> 석고보드 | C61: =VLOOKUP($A61,'5.전축_자재단가표'!$A$4:$P$156,3,FALSE) -> 3 X 6 X 12.5T | D61: =VLOOKUP($A61,'5.전축_자재단가표'!$A$4:$P$156,4,FALSE) -> M2 | E61: =2*1.03 -> 2.06 | F61: =VLOOKUP($A61,'5.전축_자재단가표'!$A$4:$P$156,6,FALSE) -> 2592.5926 | G61: =F61*E61 -> 5340.7407
B62: 잡자재 | D62: % | E62: 5 | G62: =SUM(G59:G61)*E62% -> 840.87037
A63: L10 | B63: 방음칸막이 설치 | C63: =VLOOKUP($A63,'5.전축_자재단가표'!$A$4:$P$156,2,FALSE) -> 건축목공 | D63: 인 | E63: 0.5 | H63: =VLOOKUP($A63,'5.전축_자재단가표'!$A$4:$P$156,6,FALSE) -> 113962 | I63: =H63*E63 -> 56981 | L63: 건축 11-6-2
B64: 공구손료 | D64: % | E64: 3 | I64: =SUM(I63:I63)*E64% -> 1709.43
A66: AA-3 | B66: 건식칸막이(일반벽체) | C66: 단면벽체 | D66: M2 | E66: 1 | G66: =SUM(G67:G72) -> 17658.278 | I66: =SUM(I67:I72) -> 39909.492 | K66: =I66+G66 -> 57567.77
A67: A2 | B67: =VLOOKUP($A67,'5.전축_자재단가표'!$A$4:$P$156,2,FALSE) -> 각재 | C67: =VLOOKUP($A67,'5.전축_자재단가표'!$A$4:$P$156,3,FALSE) -> 69 X 30 X 3600 | D67: =VLOOKUP($A67,'5.전축_자재단가표'!$A$4:$P$156,4,FALSE) -> 재 | E67: =((1/0.45)+(1/0.9))/3.6*2.3*1.1 -> 2.3425926 | F67: =VLOOKUP($A67,'5.전축_자재단가표'!$A$4:$P$156,6,FALSE) -> 1800 | G67: =F67*E67 -> 4216.6667
A68: A3 | B68: =VLOOKUP($A68,'5.전축_자재단가표'!$A$4:$P$156,2,FALSE) -> POLYESTER | C68: =VLOOKUP($A68,'5.전축_자재단가표'!$A$4:$P$156,3,FALSE) -> 24K 50T | D68: =VLOOKUP($A68,'5.전축_자재단가표'!$A$4:$P$156,4,FALSE) -> M2 | E68: =1*1.1 -> 1.1 | F68: =VLOOKUP($A68,'5.전축_자재단가표'!$A$4:$P$156,6,FALSE) -> 6600 | G68: =F68*E68 -> 7260
A69: A5 | B69: =VLOOKUP($A69,'5.전축_자재단가표'!$A$4:$P$156,2,FALSE) -> 석고보드 | C69: =VLOOKUP($A69,'5.전축_자재단가표'!$A$4:$P$156,3,FALSE) -> 3 X 6 X 12.5T | D69: =VLOOKUP($A69,'5.전축_자재단가표'!$A$4:$P$156,4,FALSE) -> M2 | E69: =2*1.03 -> 2.06 | F69: =VLOOKUP($A69,'5.전축_자재단가표'!$A$4:$P$156,6,FALSE) -> 2592.5926 | G69: =F69*E69 -> 5340.7407
B70: 잡자재 | D70: % | E70: 5 | G70: =SUM(G67:G69)*E70% -> 840.87037
A71: L10 | B71: 칸막이 설치 | C71: =VLOOKUP($A71,'5.전축_자재단가표'!$A$4:$P$156,2,FALSE) -> 건축목공 | D71: 인 | E71: 0.34 | H71: =VLOOKUP($A71,'5.전축_자재단가표'!$A$4:$P$156,6,FALSE) -> 113962 | I71: =H71*E71 -> 38747.08 | L71: 건축 11-6-2
B72: 공구손료 | D72: % | E72: 3 | I72: =SUM(I71:I71)*E72% -> 1162.4124
A74: AA-4 | B74: 방진바닥 | C74: 건식 FLOATING FLOOR | D74: M2 | E74: 1 | G74: =SUM(G75:G86) -> 74339.886 | I74: =SUM(I75:I86) -> 49638.204 | K74: =I74+G74 -> 123978.09
A75: A10 | B75: =VLOOKUP($A75,'5.전축_자재단가표'!$A$4:$P$156,2,FALSE) -> 방진고무 | C75: =VLOOKUP($A75,'5.전축_자재단가표'!$A$4:$P$156,3,FALSE) -> M-5 | D75: =VLOOKUP($A75,'5.전축_자재단가표'!$A$4:$P$156,4,FALSE) -> EA | E75: =((1/0.407)*(1/0.61))*1.1 -> 4.4306602 | F75: =VLOOKUP($A75,'5.전축_자재단가표'!$A$4:$P$156,6,FALSE) -> 8000 | G75: =F75*E75 -> 35445.281
A76: A2 | B76: =VLOOKUP($A76,'5.전축_자재단가표'!$A$4:$P$156,2,FALSE) -> 각재 | C76: =VLOOKUP($A76,'5.전축_자재단가표'!$A$4:$P$156,3,FALSE) -> 69 X 30 X 3600 | D76: =VLOOKUP($A76,'5.전축_자재단가표'!$A$4:$P$156,4,FALSE) -> 재 | E76: =((1/0.407)+(1/0.61))/3.6*2.3*1.1 -> 2.8788214 | F76: =VLOOKUP($A76,'5.전축_자재단가표'!$A$4:$P$156,6,FALSE) -> 1800 | G76: =F76*E76 -> 5181.8786
A77: A3 | B77: =VLOOKUP($A77,'5.전축_자재단가표'!$A$4:$P$156,2,FALSE) -> POLYESTER | C77: =VLOOKUP($A77,'5.전축_자재단가표'!$A$4:$P$156,3,FALSE) -> 24K 50T | D77: =VLOOKUP($A77,'5.전축_자재단가표'!$A$4:$P$156,4,FALSE) -> M2 | E77: =1*1.1 -> 1.1 | F77: =VLOOKUP($A77,'5.전축_자재단가표'!$A$4:$P$156,6,FALSE) -> 6600 | G77: =F77*E77 -> 7260
A78: A5 | B78: =VLOOKUP($A78,'5.전축_자재단가표'!$A$4:$P$156,2,FALSE) -> 석고보드 | C78: =VLOOKUP($A78,'5.전축_자재단가표'!$A$4:$P$156,3,FALSE) -> 3 X 6 X 12.5T | D78: =VLOOKUP($A78,'5.전축_자재단가표'!$A$4:$P$156,4,FALSE) -> M2 | E78: =1*1.03 -> 1.03 | F78: =VLOOKUP($A78,'5.전축_자재단가표'!$A$4:$P$156,6,FALSE) -> 2592.5926 | G78: =F78*E78 -> 2670.3704
A79: A6 | B79: =VLOOKUP($A79,'5.전축_자재단가표'!$A$4:$P$156,2,FALSE) -> 합판 | C79: =VLOOKUP($A79,'5.전축_자재단가표'!$A$4:$P$156,3,FALSE) -> 4 X 8 X 12T | D79: =VLOOKUP($A79,'5.전축_자재단가표'!$A$4:$P$156,4,FALSE) -> M2 | E79: =2*1.03 -> 2.06 | F79: =VLOOKUP($A79,'5.전축_자재단가표'!$A$4:$P$156,6,FALSE) -> 9826.3889 | G79: =F79*E79 -> 20242.361
B80: 잡자재 | D80: % | E80: 5 | G80: =SUM(G75:G79)*E80% -> 3539.9946
A81: L10 | B81: 목재틀 설치 | C81: =VLOOKUP($A81,'5.전축_자재단가표'!$A$4:$P$156,2,FALSE) -> 건축목공 | D81: 인 | E81: 0.075 | H81: =VLOOKUP($A81,'5.전축_자재단가표'!$A$4:$P$156,6,FALSE) -> 113962 | I81: =H81*E81 -> 8547.15 | L81: 건축 11-3-1
A82: L2 | B82: 목재틀 설치 | C82: =VLOOKUP($A82,'5.전축_자재단가표'!$A$4:$P$156,2,FALSE) -> 보통인부 | D82: 인 | E82: 0.007 | H82: =VLOOKUP($A82,'5.전축_자재단가표'!$A$4:$P$156,6,FALSE) -> 81443 | I82: =H82*E82 -> 570.101 | L82: 건축 11-3-1
A83: L10 | B83: 흡음재 넣기 | C83: =VLOOKUP($A83,'5.전축_자재단가표'!$A$4:$P$156,2,FALSE) -> 건축목공 | D83: 인 | E83: 0.03 | H83: =VLOOKUP($A83,'5.전축_자재단가표'!$A$4:$P$156,6,FALSE) -> 113962 | I83: =H83*E83 -> 3418.86 | L83: 건축 19-6-1
A84: L10 | B84: 판재 부착 | C84: =VLOOKUP($A84,'5.전축_자재단가표'!$A$4:$P$156,2,FALSE) -> 건축목공 | D84: 인 | E84: =3*0.09 -> 0.27 | H84: =VLOOKUP($A84,'5.전축_자재단가표'!$A$4:$P$156,6,FALSE) -> 113962 | I84: =H84*E84 -> 30769.74 | L84: 건축 11-3-2
A85: L2 | B85: 판재 부착 | C85: =VLOOKUP($A85,'5.전축_자재단가표'!$A$4:$P$156,2,FALSE) -> 보통인부 | D85: 인 | E85: =3*0.02 -> 0.06 | H85: =VLOOKUP($A85,'5.전축_자재단가표'!$A$4:$P$156,6,FALSE) -> 81443 | I85: =H85*E85 -> 4886.58 | L85: 건축 11-3-2
B86: 공구손료 | D86: % | E86: 3 | I86: =SUM(I81:I85)*E86% -> 1445.7729
A88: AA-5 | B88: 부가차음벽체 | C88: 공기층 형성 후 방음벽체 | D88: M2 | E88: 1 | G88: =SUM(G89:G94) -> 17658.278 | I88: =SUM(I89:I94) -> 58690.43 | K88: =I88+G88 -> 76348.708
A89: A2 | B89: =VLOOKUP($A89,'5.전축_자재단가표'!$A$4:$P$156,2,FALSE) -> 각재 | C89: =VLOOKUP($A89,'5.전축_자재단가표'!$A$4:$P$156,3,FALSE) -> 69 X 30 X 3600 | D89: =VLOOKUP($A89,'5.전축_자재단가표'!$A$4:$P$156,4,FALSE) -> 재 | E89: =((1/0.45)+(1/0.9))/3.6*2.3*1.1 -> 2.3425926 | F89: =VLOOKUP($A89,'5.전축_자재단가표'!$A$4:$P$156,6,FALSE) -> 1800 | G89: =F89*E89 -> 4216.6667
A90: A3 | B90: =VLOOKUP($A90,'5.전축_자재단가표'!$A$4:$P$156,2,FALSE) -> POLYESTER | C90: =VLOOKUP($A90,'5.전축_자재단가표'!$A$4:$P$156,3,FALSE) -> 24K 50T | D90: =VLOOKUP($A90,'5.전축_자재단가표'!$A$4:$P$156,4,FALSE) -> M2 | E90: =1*1.1 -> 1.1 | F90: =VLOOKUP($A90,'5.전축_자재단가표'!$A$4:$P$156,6,FALSE) -> 6600 | G90: =F90*E90 -> 7260
A91: A5 | B91: =VLOOKUP($A91,'5.전축_자재단가표'!$A$4:$P$156,2,FALSE) -> 석고보드 | C91: =VLOOKUP($A91,'5.전축_자재단가표'!$A$4:$P$156,3,FALSE) -> 3 X 6 X 12.5T | D91: =VLOOKUP($A91,'5.전축_자재단가표'!$A$4:$P$156,4,FALSE) -> M2 | E91: =2*1.03 -> 2.06 | F91: =VLOOKUP($A91,'5.전축_자재단가표'!$A$4:$P$156,6,FALSE) -> 2592.5926 | G91: =F91*E91 -> 5340.7407
B92: 잡자재 | D92: % | E92: 5 | G92: =SUM(G89:G91)*E92% -> 840.87037
A93: L10 | B93: 방음칸막이 설치 | C93: =VLOOKUP($A93,'5.전축_자재단가표'!$A$4:$P$156,2,FALSE) -> 건축목공 | D93: 인 | E93: 0.5 | H93: =VLOOKUP($A93,'5.전축_자재단가표'!$A$4:$P$156,6,FALSE) -> 113962 | I93: =H93*E93 -> 56981 | L93: 건축 11-6-2
B94: 공구손료 | D94: % | E94: 3 | I94: =SUM(I93:I93)*E94% -> 1709.43
A96: AA-6 | B96: 차음천장 | C96: 방진헹거 이중천장 | D96: M2 | E96: 1 | G96: =SUM(G97:G108) -> 71903.222 | I96: =SUM(I97:I108) -> 102771.08 | K96: =I96+G96 -> 174674.31
A97: A11 | B97: =VLOOKUP($A97,'5.전축_자재단가표'!$A$4:$P$156,2,FALSE) -> 방진헹거 | C97: =VLOOKUP($A97,'5.전축_자재단가표'!$A$4:$P$156,3,FALSE) -> 50KG | D97: =VLOOKUP($A97,'5.전축_자재단가표'!$A$4:$P$156,4,FALSE) -> EA | E97: =((1/0.9)*(1/0.9))*1.1 -> 1.3580247 | F97: =VLOOKUP($A97,'5.전축_자재단가표'!$A$4:$P$156,6,FALSE) -> 25800 | G97: =F97*E97 -> 35037.037
A98: A2 | B98: =VLOOKUP($A98,'5.전축_자재단가표'!$A$4:$P$156,2,FALSE) -> 각재 | C98: =VLOOKUP($A98,'5.전축_자재단가표'!$A$4:$P$156,3,FALSE) -> 69 X 30 X 3600 | D98: =VLOOKUP($A98,'5.전축_자재단가표'!$A$4:$P$156,4,FALSE) -> 재 | E98: =(1/0.9)/3.6*2.3*1.1*2 -> 1.5617284 | F98: =VLOOKUP($A98,'5.전축_자재단가표'!$A$4:$P$156,6,FALSE) -> 1800 | G98: =F98*E98 -> 2811.1111
A99: A1 | B99: =VLOOKUP($A99,'5.전축_자재단가표'!$A$4:$P$156,2,FALSE) -> 각재 | C99: =VLOOKUP($A99,'5.전축_자재단가표'!$A$4:$P$156,3,FALSE) -> 30 X 30 X 3600 | D99: =VLOOKUP($A99,'5.전축_자재단가표'!$A$4:$P$156,4,FALSE) -> 재 | E99: =(1/0.3)/3.6*1*1.1*2 -> 2.037037 | F99: =VLOOKUP($A99,'5.전축_자재단가표'!$A$4:$P$156,6,FALSE) -> 1800 | G99: =F99*E99 -> 3666.6667
A100: A3 | B100: =VLOOKUP($A100,'5.전축_자재단가표'!$A$4:$P$156,2,FALSE) -> POLYESTER | C100: =VLOOKUP($A100,'5.전축_자재단가표'!$A$4:$P$156,3,FALSE) -> 24K 50T | D100: =VLOOKUP($A100,'5.전축_자재단가표'!$A$4:$P$156,4,FALSE) -> M2 | E100: =2*1.1 -> 2.2 | F100: =VLOOKUP($A100,'5.전축_자재단가표'!$A$4:$P$156,6,FALSE) -> 6600 | G100: =F100*E100 -> 14520
A101: A5 | B101: =VLOOKUP($A101,'5.전축_자재단가표'!$A$4:$P$156,2,FALSE) -> 석고보드 | C101: =VLOOKUP($A101,'5.전축_자재단가표'!$A$4:$P$156,3,FALSE) -> 3 X 6 X 12.5T | D101: =VLOOKUP($A101,'5.전축_자재단가표'!$A$4:$P$156,4,FALSE) -> M2 | E101: =4*1.2 -> 4.8 | F101: =VLOOKUP($A101,'5.전축_자재단가표'!$A$4:$P$156,6,FALSE) -> 2592.5926 | G101: =F101*E101 -> 12444.444
B102: 잡자재 | D102: % | E102: 5 | G102: =SUM(G97:G101)*E102% -> 3423.963
A103: L10 | B103: 목재틀 설치 | C103: =VLOOKUP($A103,'5.전축_자재단가표'!$A$4:$P$156,2,FALSE) -> 건축목공 | D103: 인 | E103: =2*0.22 -> 0.44 | H103: =VLOOKUP($A103,'5.전축_자재단가표'!$A$4:$P$156,6,FALSE) -> 113962 | I103: =H103*E103 -> 50143.28 | L103: 건축 11-4
A104: L2 | B104: 목재틀 설치 | C104: =VLOOKUP($A104,'5.전축_자재단가표'!$A$4:$P$156,2,FALSE) -> 보통인부 | D104: 인 | E104: =2*0.021 -> 0.042 | H104: =VLOOKUP($A104,'5.전축_자재단가표'!$A$4:$P$156,6,FALSE) -> 81443 | I104: =H104*E104 -> 3420.606 | L104: 건축 11-4
A105: L10 | B105: 흡음재 넣기 | C105: =VLOOKUP($A105,'5.전축_자재단가표'!$A$4:$P$156,2,FALSE) -> 건축목공 | D105: 인 | E105: 0.03 | H105: =VLOOKUP($A105,'5.전축_자재단가표'!$A$4:$P$156,6,FALSE) -> 113962 | I105: =H105*E105 -> 3418.86 | L105: 건축 19-6-1
A106: L10 | B106: 판재 부착 | C106: =VLOOKUP($A106,'5.전축_자재단가표'!$A$4:$P$156,2,FALSE) -> 건축목공 | D106: 인 | E106: =4*0.09 -> 0.36 | H106: =VLOOKUP($A106,'5.전축_자재단가표'!$A$4:$P$156,6,FALSE) -> 113962 | I106: =H106*E106 -> 41026.32 | L106: 건축 19-6-3
A107: L2 | B107: 판재 부착 | C107: =VLOOKUP($A107,'5.전축_자재단가표'!$A$4:$P$156,2,FALSE) -> 보통인부 | D107: 인 | E107: =4*0.01 -> 0.04 | H107: =VLOOKUP($A107,'5.전축_자재단가표'!$A$4:$P$156,6,FALSE) -> 81443 | I107: =H107*E107 -> 3257.72 | L107: 건축 19-6-3
B108: 공구손료 | D108: % | E108: 3 | I108: =SUM(I103:I103)*E108% -> 1504.2984
A110: AA-7 | B110: 흡음천장 | C110: P.E 50T + FABRIC | D110: M2 | E110: 1 | G110: =SUM(G111:G115) -> 35488.25 | I110: =SUM(I111:I115) -> 9588.6408 | K110: =I110+G110 -> 45076.891
A111: A41 | B111: =VLOOKUP($A111,'5.전축_자재단가표'!$A$4:$P$156,2,FALSE) -> PLASTIC JOINER | C111: =VLOOKUP($A111,'5.전축_자재단가표'!$A$4:$P$156,3,FALSE) -> L형 50T | D111: =VLOOKUP($A111,'5.전축_자재단가표'!$A$4:$P$156,4,FALSE) -> M | E111: 3.05 | F111: =VLOOKUP($A111,'5.전축_자재단가표'!$A$4:$P$156,6,FALSE) -> 1166.6667 | G111: =F111*E111 -> 3558.3333
A112: A23 | B112: =VLOOKUP($A112,'5.전축_자재단가표'!$A$4:$P$156,2,FALSE) -> POLYESTER + FABRIC | C112: =VLOOKUP($A112,'5.전축_자재단가표'!$A$4:$P$156,3,FALSE) -> 1000 X 2000 X 50T | D112: =VLOOKUP($A112,'5.전축_자재단가표'!$A$4:$P$156,4,FALSE) -> M2 | E112: 1.05 | F112: =VLOOKUP($A112,'5.전축_자재단가표'!$A$4:$P$156,6,FALSE) -> 28800 | G112: =F112*E112 -> 30240
B113: 잡자재 | D113: % | E113: 5 | G113: =SUM(G111:G112)*E113% -> 1689.9167
A114: L14 | B114: 흡음재 부착 | C114: =VLOOKUP($A114,'5.전축_자재단가표'!$A$4:$P$156,2,FALSE) -> 내장공 | D114: 인 | E114: 0.08 | H114: =VLOOKUP($A114,'5.전축_자재단가표'!$A$4:$P$156,6,FALSE) -> 116367 | I114: =H114*E114 -> 9309.36 | L114: 건축 19-8
B115: 공구손료 | D115: % | E115: 3 | I115: =SUM(I114)*E115% -> 279.2808
...

Sheet 5.전축_자재단가표
A1: No | B1: 품 명 DESCRIPTION | C1: 규 격 SPECIFICATION | D1: 단위UNIT | E1: 수량 Q'TY | F1: 적용단가 UNIT PRICE | G1: 물가정보 | I1: 물가자료 | K1: 거래가격 | M1: 견적서 | O1: 시중가 | P1: 비고 NOTE
G2: PAGE | H2: 단가 UNIT PRICE | I2: PAGE | J2: 단가 UNIT PRICE | K2: PAGE | L2: 단가 UNIT PRICE | M2: 견적서-1 | N2: 견적서-2
A4: A1 | B4: 각재 | C4: 30 X 30 X 3600 | D4: 재 | E4: 1 | F4: =MIN(H4,J4,L4,M4,N4,O4) -> 1800 | I4: 139 | J4: 1800
A5: A2 | B5: 각재 | C5: 69 X 30 X 3600 | D5: 재 | E5: 1 | F5: =MIN(H5,J5,L5,M5,N5,O5) -> 1800 | I5: 139 | J5: 1800
A6: A3 | B6: POLYESTER | C6: 24K 50T | D6: M2 | E6: 1 | F6: =MIN(H6,J6,L6,M6,N6,O6) -> 6600 | I6: 1076 | J6: 6600
A7: A4 | B7: POLYESTER | C7: 32K 25T | D7: M2 | E7: 1 | F7: =MIN(H7,J7,L7,M7,N7,O7) -> 4400 | I7: 1076 | J7: 4400
A8: A5 | B8: 석고보드 | C8: 3 X 6 X 12.5T | D8: M2 | E8: 1 | F8: =MIN(H8,J8,L8,M8,N8,O8) -> 2592.5926 | I8: 686 | J8: =4200/1.62 -> 2592.5926
A9: A6 | B9: 합판 | C9: 4 X 8 X 12T | D9: M2 | E9: 1 | F9: =MIN(H9,J9,L9,M9,N9,O9) -> 9826.3889 | G9: (2)361 | H9: =28300/2.88 -> 9826.3889
A10: A7 | B10: M.D.F | C10: 4 X 8 X 9T | D10: M2 | E10: 1 | F10: =MIN(H10,J10,L10,M10,N10,O10) -> 4097.2222 | I10: 682 | J10: =11800/2.88 -> 4097.2222
A11: A8 | B11: M.D.F | C11: 4 X 8 X 12T | D11: M2 | E11: 1 | F11: =MIN(H11,J11,L11,M11,N11,O11) -> 5277.7778 | I11: 682 | J11: =15200/2.88 -> 5277.7778
A12: A9 | B12: M.D.F | C12: 4 X 8 X 25T | D12: M2 | E12: 1 | F12: =MIN(H12,J12,L12,M12,N12,O12) -> 12500 | I12: 682 | J12: =36000/2.88 -> 12500
A13: A10 | B13: 방진고무 | C13: M-5 | D13: EA | E13: 1 | F13: =MIN(H13,J13,L13,M13,N13,O13) -> 8000 | G13: (1)747 | H13: 8000
A14: A11 | B14: 방진헹거 | C14: 50KG | D14: EA | E14: 1 | F14: =MIN(H14,J14,L14,M14,N14,O14) -> 25800 | G14: (1)747 | H14: 25800
A15: A12 | B15: ANCHOR | C15: 10mm | D15: EA | E15: 1 | F15: =MIN(H15,J15,L15,M15,N15,O15) -> 180 | I15: 535 | J15: 180
A16: A13 | B16: 달대볼트 | C16: 9mm L1000 | D16: EA | E16: 1 | F16: =MIN(H16,J16,L16,M16,N16,O16) -> 1160 | I16: 535 | J16: 1160
A17: A14 | B17: HANGER | C17: H150 | D17: EA | E17: 1 | F17: =MIN(H17,J17,L17,M17,N17,O17) -> 105 | M17: 105
A18: A15 | B18: HANGER PIN | D18: EA | E18: 1 | F18: =MIN(H18,J18,L18,M18,N18,O18) -> 250 | I18: 535 | J18: 250
A19: A16 | B19: CARRYING CHANNEL | C19: 1.2T 38 X 12 @ 900 | D19: M | E19: 1 | F19: =MIN(H19,J19,L19,M19,N19,O19) -> 1250 | I19: 535 | J19: 1250
A20: A17 | B20: CARRYING CHANNEL(J) | D20: EA | E20: 1 | F20: =MIN(H20,J20,L20,M20,N20,O20) -> 60 | M20: 60
A21: A18 | B21: MINOR CHANNEL | C21: 1.2T 19 X 10 @ 1800 | D21: M | E21: 1 | F21: =MIN(H21,J21,L21,M21,N21,O21) -> 780 | I21: 535 | J21: 780
A22: A19 | B22: MINOR CHANNEL CLIP | C22: 19형 | D22: EA | E22: 1 | F22: =MIN(H22,J22,L22,M22,N22,O22) -> 81 | M22: 81
A23: A20 | B23: M-BAR | C23: M-BAR @ 300 | D23: M | E23: 1 | F23: =MIN(H23,J23,L23,M23,N23,O23) -> 800 | I23: 535 | J23: 800
A24: A21 | B24: M-BAR (J) | D24: EA | E24: 1 | F24: =MIN(H24,J24,L24,M24,N24,O24) -> 45 | M24: 45
A25: A22 | B25: M-BAR CLIP | D25: EA | E25: 1 | F25: =MIN(H25,J25,L25,M25,N25,O25) -> 35 | M25: 35
A26: A23 | B26: POLYESTER + FABRIC | C26: 1000 X 2000 X 50T | D26: M2 | E26: 1 | F26: =MIN(H26,J26,L26,M26,N26,O26) -> 28800 | I26: 1076 | J26: 28800
A27: A24 | B27: 압축흡음보드 | C27: 4 X 8 X 9T | D27: M2 | E27: 1 | F27: =MIN(H27,J27,L27,M27,N27,O27) -> 23900 | I27: 1076 | J27: 23900
A28: A25 | B28: FABRIC | D28: M | E28: 1 | F28: =MIN(H28,J28,L28,M28,N28,O28) -> 13200 | I28: 1072 | J28: 13200
A29: A26 | B29: INTERIOR FILM | D29: M2 | E29: 1 | F29: =MIN(H29,J29,L29,M29,N29,O29) -> 45000 | I29: 682 | J29: 45000 | P29: 시공비포함
A30: A27 | B30: ACCESS FLOOR | C30: WOOD + LAMINATE | D30: M2 | E30: 1 | F30: =MIN(H30,J30,L30,M30,N30,O30) -> 88000 | I30: 658 | J30: 88000 | P30: 시공비포함
A31: A28 | B31: CARPET TILE | D31: M2 | E31: 1 | F31: =MIN(H31,J31,L31,M31,N31,O31) -> 22500 | I31: 644 | J31: 22500
A32: A29 | B32: 흡음텍스 | C32: 300 X 600 X 12T | D32: M2 | E32: 1 | F32: =MIN(H32,J32,L32,M32,N32,O32) -> 7900 | I32: 690 | J32: 7900
A33: A30 | B33: LINE 타공판 | D33: M2 | E33: 1 | F33: =MIN(H33,J33,L33,M33,N33,O33) -> 50000 | G33: (1)742 | H33: 89000 | M33: 50000
A34: A30-1 | B34: 방음문 | C34: W1050 X H2240 | D34: SET | E34: 3 | F34: =MIN(H34,J34,L34,M34,N34,O34) -> 2268000 | I34: 593 | J34: 2268000
A35: A31 | B35: 방음시창 | C35: W1800 X H1200 | D35: M2 | E35: 1 | F35: =MIN(H35,J35,L35,M35,N35,O35) -> 550000 | I35: 593 | J35: 550000
A36: A32 | B36: 방음시창 | C36: W1200 X H1200 | D36: M2 | E36: 1 | F36: =MIN(H36,J36,L36,M36,N36,O36) -> 550000 | I36: 593 | J36: 550000
A37: A33 | B37: 슬라이딩 문 | C37: W3000 X H2100 | D37: M2 | E37: 1 | F37: =MIN(H37,J37,L37,M37,N37,O37) -> 105000 | I37: 577 | J37: 105000
A38: A34 | B38: 자동문 | C38: W1800 X H2100 | D38: SET | E38: 1 | F38: =MIN(H38,J38,L38,M38,N38,O38) -> 2600000 | G38: (2)312 | H38: 2600000
A39: A35 | B39: 복층유리 | C39: 16T | D39: M2 | E39: 1 | F39: =MIN(H39,J39,L39,M39,N39,O39) -> 18220 | G39: (2)332 | H39: 18220
A40: A36 | B40: 일반유리 | C40: 10T | D40: M2 | E40: 1 | F40: =MIN(H40,J40,L40,M40,N40,O40) -> 25700 | G40: (2)333 | H40: 25700
A41: A37 | B41: 비계 기본틀 | C41: 1219 X 1700 | D41: EA | E41: 1 | F41: =MIN(H41,J41,L41,M41,N41,O41) -> 28300 | G41: (2)164 | H41: 28300
A42: A38 | B42: 가세 | C42: L1518 | D42: EA | E42: 1 | F42: =MIN(H42,J42,L42,M42,N42,O42) -> 8900 | G42: (2)164 | H42: 8900
A43: A39 | B43: 바퀴 | D43: EA | E43: 1 | F43: =MIN(H43,J43,L43,M43,N43,O43) -> 4650 | G43: (1)651 | H43: 4650
A44: A40 | B44: 발판 | D44: 매 | E44: 1 | F44: =MIN(H44,J44,L44,M44,N44,O44) -> 25200 | G44: (2)164 | H44: 25200
A45: A41 | B45: PLASTIC JOINER | C45: L형 50T | D45: M | E45: 1 | F45: =MIN(H45,J45,L45,M45,N45,O45) -> 1166.6667 | M45: =3500/3 -> 1166.6667
A50: E1 | B50: FLEXIBLE TUBE | C50: G-W 22C | D50: M | E50: 1 | F50: =MIN(H50,J50,L50,M50,N50,O50) -> 2300 | G50: (1)788 | H50: 2300
A51: E2 | B51: FLEXIBLE TUBE | C51: G-W 28C | D51: M | E51: 1 | F51: =MIN(H51,J51,L51,M51,N51,O51) -> 2690 | G51: (1)788 | H51: 2690
A52: E3 | B52: FLEXIBLE TUBE | C52: G-W 36C | D52: M | E52: 1 | F52: =MIN(H52,J52,L52,M52,N52,O52) -> 4060 | G52: (1)788 | H52: 4060
A53: E4 | B53: FLEXIBLE Con'n | C53: SFCI 22C | D53: EA | E53: 1 | F53: =MIN(H53,J53,L53,M53,N53,O53) -> 2380 | G53: (1)788 | H53: 2380
A54: E5 | B54: FLEXIBLE Con'n | C54: SFCI 28C | D54: EA | E54: 1 | F54: =MIN(H54,J54,L54,M54,N54,O54) -> 4330 | G54: (1)788 | H54: 4330
A55: E6 | B55: FLEXIBLE Con'n | C55: SFCI 36C | D55: EA | E55: 1 | F55: =MIN(H55,J55,L55,M55,N55,O55) -> 6560 | G55: (1)788 | H55: 6560
A56: E7 | B56: 0.6/1kv 폴리에틴넬 난연케이블 | C56: TFR-CV 16㎟ x 4C | D56: M | E56: 1 | F56: =MIN(H56,J56,L56,M56,N56,O56) -> 8415 | G56: (1)753 | H56: 8415
A57: E8 | B57: 0.6/1kv 폴리에틴넬 난연케이블 | C57: TFR-CV 10㎟ x 4C | D57: M | E57: 1 | F57: =MIN(H57,J57,L57,M57,N57,O57) -> 6486 | G57: (1)753 | H57: 6486
A58: E9 | B58: 0.6/1kv 폴리에틴넬 난연케이블 | C58: TFR-CV 4㎟ x 3C | D58: M | E58: 1 | F58: =MIN(H58,J58,L58,M58,N58,O58) -> 2588 | G58: (1)753 | H58: 2588
A59: E10 | B59: 0.6/1kv PVC 절연 접지케이블 | C59: TFR-GV 16㎟ x 1C | D59: M | E59: 1 | F59: =MIN(H59,J59,L59,M59,N59,O59) -> 1981 | G59: (1)749 | H59: 1981
A60: E11 | B60: 0.6/1kv PVC 절연 접지케이블 | C60: TFR-GV 6㎟ x 1C | D60: M | E60: 1 | F60: =MIN(H60,J60,L60,M60,N60,O60) -> 861 | G60: (1)749 | H60: 861
A61: E12 | B61: 0.6/1kv PVC 절연 접지케이블 | C61: TFR-GV 4㎟ x 1C | D61: M | E61: 1 | F61: =MIN(H61,J61,L61,M61,N61,O61) -> 756 | G61: (1)749 | H61: 756
A62: E13 | B62: PANEL | C62: UPS - MAIN (UPS전용) | D62: SET | E62: 1 | F62: =MIN(H62,J62,L62,M62,N62,O62) -> 1277000 | M62: 1277000
A63: E14 | B63: PANEL | C63: PAC - MAIN (동력전용) | D63: SET | E63: 1 | F63: =MIN(H63,J63,L63,M63,N63,O63) -> 1064500 | M63: 1064500
A64: E15 | B64: 전선관 | C64: 16C | D64: M | E64: 1 | F64: =MIN(H64,J64,L64,M64,N64,O64) -> 2603 | G64: (1)784 | H64: 2603
A65: E16 | B65: OUTLET BOX | C65: 54mm , Square | D65: EA | E65: 1 | F65: =MIN(H65,J65,L65,M65,N65,O65) -> 3036 | G65: (1)792 | H65: 3036
A66: E17 | B66: OUTLET BOX | C66: 54mm , Octagon | D66: EA | E66: 1 | F66: =MIN(H66,J66,L66,M66,N66,O66) -> 2904 | G66: (1)792 | H66: 2904
A67: E18 | B67: BOX COVER | C67: 54mm , Square | D67: EA | E67: 1 | F67: =MIN(H67,J67,L67,M67,N67,O67) -> 448 | G67: (1)792 | H67: 448
A68: E19 | B68: BOX COVER | C68: 54mm , Octagon | D68: EA | E68: 1 | F68: =MIN(H68,J68,L68,M68,N68,O68) -> 328 | G68: (1)792 | H68: 328
A69: E20 | B69: FLEXIBLE TUBE | C69: SF - 16C | D69: M | E69: 1 | F69: =MIN(H69,J69,L69,M69,N69,O69) -> 970 | G69: (1)788 | H69: 970
A70: E21 | B70: FLEXIBLE Con'n | C70: SFCI - 16mm | D70: EA | E70: 1 | F70: =MIN(H70,J70,L70,M70,N70,O70) -> 710 | G70: (1)788 | H70: 710
A71: E22 | B71: 450/750V 비닐 내열전선 | C71: HFIX 2.5㎟ | D71: M | E71: 1 | F71: =MIN(H71,J71,L71,M71,N71,O71) -> 471 | G71: (1)749 | H71: 471
A72: E23 | B72: 조명기구 "A" - TYPE | C72: 형광등 울트라 FL 32W x 1 등용 | D72: SET | E72: 1 | F72: =MIN(H72,J72,L72,M72,N72,O72) -> 46000 | M72: 46000
A73: E24 | B73: 조명기구 "B" - TYPE | C73: 매입등 EL 20W x 1등용 | D73: SET | E73: 1 | F73: =MIN(H73,J73,L73,M73,N73,O73) -> 8500 | M73: 8500
A74: E25 | B74: 조명기구 "C" - TYPE | C74: 할로겐 스포트 HL50W x 1등용 | D74: SET | E74: 1 | F74: =MIN(H74,J74,L74,M74,N74,O74) -> 16500 | M74: 16500
A75: E26 | B75: SWITCH | C75: SUPER WIDE 1Way 1G | D75: SET | E75: 1 | F75: =MIN(H75,J75,L75,M75,N75,O75) -> 1839 | G75: (1)869 | H75: 1839
A76: E27 | B76: SWITCH | C76: SUPER WIDE 1Way 2G | D76: SET | E76: 1 | F76: =MIN(H76,J76,L76,M76,N76,O76) -> 2848 | G76: (1)869 | H76: 2848
A77: E28 | B77: SWITCH | C77: SUPER WIDE 1Way 3G | D77: SET | E77: 1 | F77: =MIN(H77,J77,L77,M77,N77,O77) -> 3718 | G77: (1)869 | H77: 3718
A78: E29 | B78: 조광기 | C78: SUPER WIDE 1kw | D78: SET | E78: 1 | F78: =MIN(H78,J78,L78,M78,N78,O78) -> 22800 | M78: 22800
A79: E30 | B79: 450/750V 비닐 내열전선 | C79: HFIX 4.0㎟ | D79: M | E79: 1 | F79: =MIN(H79,J79,L79,M79,N79,O79) -> 663 | G79: (1)749 | H79: 663
A80: E31 | B80: OUTLET | C80: Super Wide,2G+E ,250V/15A | D80: EA | E80: 1 | F80: =MIN(H80,J80,L80,M80,N80,O80) -> 1879 | G80: (1)865 | H80: 1879
A85: M1 | B85: 스튜디오 및 부조정실 실외기 | C85: 8HP | D85: SET | E85: 1 | F85: =MIN(H85,J85,L85,M85,N85,O85) -> 4527300 | G85: (2)810 | H85: 5769000 | M85: 4527300
A86: M2 | B86: 스튜디오 매립덕트 실내기 | C86: 3HP | D86: SET | E86: 1 | F86: =MIN(H86,J86,L86,M86,N86,O86) -> 609700 | G86: (2)810 | H86: 808000 | M86: 609700
A87: M3 | B87: 부조정실 천장형 실내기 | C87: 3.5HP | D87: SET | E87: 1 | F87: =MIN(H87,J87,L87,M87,N87,O87) -> 693500 | G87: (2)810 | H87: 902000 | M87: 693500
A88: M4 | B88: 기계실 벽걸이 에어컨 | C88: 13평형 | D88: SET | E88: 1 | F88: =MIN(H88,J88,L88,M88,N88,O88) -> 1520000 | M88: 1520000
A89: M5 | B89: 동배관 | C89: 15.88mm | D89: M | E89: 1 | F89: =MIN(H89,J89,L89,M89,N89,O89) -> 4160 | G89: (2)524 | H89: 4160
A90: M6 | B90: 동배관 | C90: 9.52mm | D90: M | E90: 1 | F90: =MIN(H90,J90,L90,M90,N90,O90) -> 2870 | G90: (2)524 | H90: 2870
A91: M7 | B91: 동관이음쇠 | C91: 15.88mm | D91: EA | E91: 1 | F91: =MIN(H91,J91,L91,M91,N91,O91) -> 755 | G91: (2)525 | H91: 755
A92: M8 | B92: 동관이음쇠 | C92: 9.52mm | D92: EA | E92: 1 | F92: =MIN(H92,J92,L92,M92,N92,O92) -> 478 | G92: (2)525 | H92: 478
A93: M9 | B93: PVC배관 | C93: 20A | D93: M | E93: 1 | F93: =MIN(H93,J93,L93,M93,N93,O93) -> 772.5 | G93: (2)538 | H93: =3090/4 -> 772.5 | P93: 4M / 본
A94: M10 | B94: PVC배관 이음쇠 | C94: 20A | D94: EA | E94: 1 | F94: =MIN(H94,J94,L94,M94,N94,O94) -> 213 | G94: (2)539 | H94: 213
A95: M11 | B95: 고무발포 보온재 | C95: 15.88mm, 13T | D95: M | E95: 1 | F95: =MIN(H95,J95,L95,M95,N95,O95) -> 1350 | G95: (2)753 | H95: 1350
A96: M12 | B96: 고무발포 보온재 | C96: 9.52mm, 13T | D96: M | E96: 1 | F96: =MIN(H96,J96,L96,M96,N96,O96) -> 950 | G96: (2)753 | H96: 950
A97: M13 | B97: 고무발포단열테이프 | C97: 3T X 100 X 15000 | D97: ROLL | E97: 1 | F97: =MIN(H97,J97,L97,M97,N97,O97) -> 7000 | G97: (2)753 | H97: 7000
A98: M14 | B98: P.E 보온재 | C98: 20A 10T | D98: M | E98: 1 | F98: =MIN(H98,J98,L98,M98,N98,O98) -> 843 | G98: (2)752 | H98: 843
A99: M15 | B99: 냉매 | C99: R-410A | D99: KG | E99: 1 | F99: =MIN(H99,J99,L99,M99,N99,O99) -> 85000 | G99: (2)951 | H99: 85000
A100: M16 | B100: 질소 | C100: 40L | D100: 병 | E100: 1 | F100: =MIN(H100,J100,L100,M100,N100,O100) -> 15000 | G100: (2)951 | H100: 15000
A101: M17 | B101: 아연도 강판 | C101: 3'×6'×0.5T | D101: M2 | E101: 1 | F101: =MIN(H101,J101,L101,M101,N101,O101) -> 19500 | M101: 19500
A102: M18 | B102: SOUND CHAMBER | C102: 1500×1000×600 | D102: SET | E102: 1 | F102: =MIN(H102,J102,L102,M102,N102,O102) -> 1200000 | M102: 1200000
A103: M19 | B103: SILENCER | C103: 1200×500×1600 | D103: SET | E103: 1 | F103: =MIN(H103,J103,L103,M103,N103,O103) -> 2080000 | M103: 2080000
A104: M20 | B104: SOUND BOX | C104: 600×600×450 | D104: SET | E104: 1 | F104: =MIN(H104,J104,L104,M104,N104,O104) -> 288000 | M104: 288000
A105: M21 | B105: SOUND BOX | C105: 500×500×450 | D105: SET | E105: 1 | F105: =MIN(H105,J105,L105,M105,N105,O105) -> 224000 | M105: 224000
A106: M22 | B106: GRILL | C106: 450 × 450 | D106: SET | E106: 1 | F106: =MIN(H106,J106,L106,M106,N106,O106) -> 33000 | M106: 33000
A107: M23 | B107: GRILL | C107: 300 × 300 | D107: SET | E107: 1 | F107: =MIN(H107,J107,L107,M107,N107,O107) -> 18000 | M107: 18000
A108: M24 | B108: 후렉시블 호스(소음) | C108: Ø200 | D108: M | E108: 1 | F108: =MIN(H108,J108,L108,M108,N108,O108) -> 18000 | M108: 18000
A112: F1 | B112: HFC-23 PACKAGE | C112: 50KG X 1B/T | D112: 대 | E112: 1 | F112: =MIN(H112,J112,L112,M112,N112,O112) -> 4100000 | G112: (2)896 | H112: 4100000
...
